BEGIN:VCALENDAR
VERSION:2.0
PRODID:-//City of Hattiesburg - ECPv5.0.0//NONSGML v1.0//EN
CALSCALE:GREGORIAN
METHOD:PUBLISH
X-WR-CALNAME:City of Hattiesburg
X-ORIGINAL-URL:https://www.hattiesburgms.com
X-WR-CALDESC:Events for City of Hattiesburg
BEGIN:VTIMEZONE
TZID:America/Chicago
BEGIN:DAYLIGHT
TZOFFSETFROM:-0600
TZOFFSETTO:-0500
TZNAME:CDT
DTSTART:20240310T080000
END:DAYLIGHT
BEGIN:STANDARD
TZOFFSETFROM:-0500
TZOFFSETTO:-0600
TZNAME:CST
DTSTART:20241103T070000
END:STANDARD
END:VTIMEZONE
BEGIN:VEVENT
DTSTART;TZID=America/Chicago:20240203T200000
DTEND;TZID=America/Chicago:20240204T020000
DTSTAMP:20260425T143509
CREATED:20240403T200352Z
LAST-MODIFIED:20240403T200352Z
UID:30437-1706990400-1707012000@www.hattiesburgms.com
SUMMARY:MS Latinx Art Association Presents Carnaval Brasileiro
DESCRIPTION:This will be an unforgettable night of vibrant Brazilian culture and sizzling entertainment! Get ready to immerse yourself in the rhythmic beats of samba\, the mesmerizing dance moves\, and the colorful costumes that will transport you straight to the heart of Brazil. \n​Dance the night away to the pulsating rhythms of live Brazilian music and a DJ that will keep you grooving all night long. \n​Whether you’re a seasoned samba dancer of just looking for a night of fun\, Carnaval Brasileiro is the place to be.  Don’t miss out on this electrifying celebration of Brazilian culture\, right here in your city.  Grab your friends\, put on your dancing shoes\, and let the festivities begin! \n​Saturday\, February 3rd\, 2024 @ 8 pm CST\nat Fat Cat\n309 Mcleod Street\, Hattiesburg \n​Live music by Suliste Samba and DJ No Requestlove.\nSamba\, Salsa\, Merengue\, Bachata\, and Reggaeton​ \nPop-up Kitchen by Guanatos Mexican Grill and Desserts by Zelaya’s Bakery! \nTickets can be purchased ahead of time for $8 or at the door for $10.\nClick on Eventbrite link:​  https://www.eventbrite.com/e/carnaval-brasiliero-at-fat-cat-tickets-780961425647?aff=ebdshpsearchautocomplete \n​Be creative and wear your favorite Rio or Mardi Gras costume.  Think feathers\, gold\, sensual\, sexy\, or even scandalous! \n
URL:https://www.hattiesburgms.com/event/ms-latinx-art-association-presents-carnaval-brasileiro/
LOCATION:Fat Cat\, 309 Mcleod Street\, Hattiesburg\, MS\, 39401\, United States
CATEGORIES:Community Event,Concert
ATTACH;FMTTYPE=image/jpeg:https://www.hattiesburgms.com/wp-content/uploads/Banner-2.jpg
ORGANIZER;CN="MS%20Latinx%20Art%20Association":MAILTO:mslatinxart@gmail.com
END:VEVENT
END:VCALENDAR