BEGIN:VCALENDAR
VERSION:2.0
PRODID:-//City of Hattiesburg - ECPv5.0.0//NONSGML v1.0//EN
CALSCALE:GREGORIAN
METHOD:PUBLISH
X-WR-CALNAME:City of Hattiesburg
X-ORIGINAL-URL:https://www.hattiesburgms.com
X-WR-CALDESC:Events for City of Hattiesburg
BEGIN:VTIMEZONE
TZID:America/Chicago
BEGIN:DAYLIGHT
TZOFFSETFROM:-0600
TZOFFSETTO:-0500
TZNAME:CDT
DTSTART:20230312T080000
END:DAYLIGHT
BEGIN:STANDARD
TZOFFSETFROM:-0500
TZOFFSETTO:-0600
TZNAME:CST
DTSTART:20231105T070000
END:STANDARD
END:VTIMEZONE
BEGIN:VEVENT
DTSTART;TZID=America/Chicago:20231216T110000
DTEND;TZID=America/Chicago:20231216T140000
DTSTAMP:20260422T084851
CREATED:20231207T161657Z
LAST-MODIFIED:20231207T161657Z
UID:30073-1702724400-1702735200@www.hattiesburgms.com
SUMMARY:Birthday Party For Jesus
DESCRIPTION:Shine Bright in the Light of Jesus Love.\nCelebrate the reason for the season at our annual Birthday Party for Jesus!\nBring your children to enjoy the Christmas Story\, crafts\, and games. Each child in attendance will receive a gift and lunch.\nChildren ages 0-12 Children MUST BE in attendance and accompanied by an adult. (1 adult per 4 children)\nOur celebration will be outside. Be sure to dress accordingly.\nFun begins at 11:00\nPlease arrive BEFORE 1:00 p.m. to participate.\nFor more info\, call 601.582.5683 \n
URL:https://www.hattiesburgms.com/event/birthday-party-for-jesus-2/
LOCATION:Christian Services\, 301 East 2nd St\, Hattiesburg\, MS\, 39401\, United States
CATEGORIES:Community Event
ATTACH;FMTTYPE=image/png:https://www.hattiesburgms.com/wp-content/uploads/2023-BPJ.png
ORGANIZER;CN="Christian%20Services":MAILTO:volunteer.christianservices@gmail.com
END:VEVENT
END:VCALENDAR