BEGIN:VCALENDAR
VERSION:2.0
PRODID:-//City of Hattiesburg - ECPv5.0.0//NONSGML v1.0//EN
CALSCALE:GREGORIAN
METHOD:PUBLISH
X-WR-CALNAME:City of Hattiesburg
X-ORIGINAL-URL:https://www.hattiesburgms.com
X-WR-CALDESC:Events for City of Hattiesburg
BEGIN:VTIMEZONE
TZID:America/Chicago
BEGIN:DAYLIGHT
TZOFFSETFROM:-0600
TZOFFSETTO:-0500
TZNAME:CDT
DTSTART:20230312T080000
END:DAYLIGHT
BEGIN:STANDARD
TZOFFSETFROM:-0500
TZOFFSETTO:-0600
TZNAME:CST
DTSTART:20231105T070000
END:STANDARD
END:VTIMEZONE
BEGIN:VEVENT
DTSTART;TZID=America/Chicago:20230601T080000
DTEND;TZID=America/Chicago:20230624T170000
DTSTAMP:20260421T082522
CREATED:20230614T181147Z
LAST-MODIFIED:20230614T181147Z
UID:28954-1685606400-1687626000@www.hattiesburgms.com
SUMMARY:FestivalSouth
DESCRIPTION:The South’s most diverse and extensive arts festival returns to venues across the Pine Belt. Enjoy art\, music\, theatre\, dance\, food\, family\, and fun at a month-long series of free and ticketed events featuring many Southern Miss alumni\, faculty\, staff\, and students. \n
URL:https://www.hattiesburgms.com/event/festivalsouth-2/
CATEGORIES:Arts,Community Event,Concert,Events,Festival
ATTACH;FMTTYPE=image/jpeg:https://www.hattiesburgms.com/wp-content/uploads/SOM-BIG-2021-223-35.jpg
ORGANIZER;CN="School%20of%20Music":MAILTO:mike.lopinto@usm.edu
END:VEVENT
BEGIN:VEVENT
DTSTART;TZID=America/Chicago:20230623T150000
DTEND;TZID=America/Chicago:20230623T170000
DTSTAMP:20260421T082522
CREATED:20230614T181206Z
LAST-MODIFIED:20230614T181206Z
UID:29141-1687532400-1687539600@www.hattiesburgms.com
SUMMARY:Odd Couples—Unlikely Pairings with Guitar
DESCRIPTION:Join musicians Nicholas Ciraldo\, Rachel Ciraldo\, Dannel Espinoza\, Kristina Finch\, Galit Kaunitz\, and Theresa Sanchez for a fun concert of unlikely instrumental pairings with guitar.  This eclectic program will showcase some of our finest area musicians and their versatility! \n
URL:https://www.hattiesburgms.com/event/odd-couples-unlikely-pairings-with-guitar/
LOCATION:Temple B’nai Israel\, 901 Mamie St.\, Hattiesburg\, MS\, 39401\, United States
CATEGORIES:Arts,Community Event,Concert,Events
ATTACH;FMTTYPE=image/png:https://www.hattiesburgms.com/wp-content/uploads/ylm6TOKQ-11.png
ORGANIZER;CN="Festival%20South":MAILTO:mike.lopinto@usm.edu
END:VEVENT
BEGIN:VEVENT
DTSTART;TZID=America/Chicago:20230623T180000
DTEND;TZID=America/Chicago:20230623T180000
DTSTAMP:20260421T082522
CREATED:20230614T181206Z
LAST-MODIFIED:20230614T181206Z
UID:29144-1687543200-1687543200@www.hattiesburgms.com
SUMMARY:Food Fiascos
DESCRIPTION:L.A.T.E. Senior Readers Theatre is a group of active over 60’s who love laughter and food- and this night of live stage revolves around the craziness that could happen in a restaurant. Breakfast\, lunch and dinner- this will cure your appetite for laughter! \n
URL:https://www.hattiesburgms.com/event/food-fiascos/
LOCATION:Parkway Heights United Methodist Church\, 2420 Hardy Street\, Hattiesburg\, MS\, 39401\, United States
CATEGORIES:Arts,Community Event,Events,Food
ATTACH;FMTTYPE=image/png:https://www.hattiesburgms.com/wp-content/uploads/ylm6TOKQ-12.png
ORGANIZER;CN="Festival%20South":MAILTO:mike.lopinto@usm.edu
END:VEVENT
END:VCALENDAR