BEGIN:VCALENDAR
VERSION:2.0
PRODID:-//City of Hattiesburg - ECPv5.0.0//NONSGML v1.0//EN
CALSCALE:GREGORIAN
METHOD:PUBLISH
X-WR-CALNAME:City of Hattiesburg
X-ORIGINAL-URL:https://www.hattiesburgms.com
X-WR-CALDESC:Events for City of Hattiesburg
BEGIN:VTIMEZONE
TZID:America/Chicago
BEGIN:DAYLIGHT
TZOFFSETFROM:-0600
TZOFFSETTO:-0500
TZNAME:CDT
DTSTART:20230312T080000
END:DAYLIGHT
BEGIN:STANDARD
TZOFFSETFROM:-0500
TZOFFSETTO:-0600
TZNAME:CST
DTSTART:20231105T070000
END:STANDARD
END:VTIMEZONE
BEGIN:VEVENT
DTSTART;TZID=America/Chicago:20230601T080000
DTEND;TZID=America/Chicago:20230624T170000
DTSTAMP:20260421T154653
CREATED:20230614T181147Z
LAST-MODIFIED:20230614T181147Z
UID:28954-1685606400-1687626000@www.hattiesburgms.com
SUMMARY:FestivalSouth
DESCRIPTION:The South’s most diverse and extensive arts festival returns to venues across the Pine Belt. Enjoy art\, music\, theatre\, dance\, food\, family\, and fun at a month-long series of free and ticketed events featuring many Southern Miss alumni\, faculty\, staff\, and students. \n
URL:https://www.hattiesburgms.com/event/festivalsouth-2/
CATEGORIES:Arts,Community Event,Concert,Events,Festival
ATTACH;FMTTYPE=image/jpeg:https://www.hattiesburgms.com/wp-content/uploads/SOM-BIG-2021-223-35.jpg
ORGANIZER;CN="School%20of%20Music":MAILTO:mike.lopinto@usm.edu
END:VEVENT
BEGIN:VEVENT
DTSTART;TZID=America/Chicago:20230617T100000
DTEND;TZID=America/Chicago:20230617T130000
DTSTAMP:20260421T154653
CREATED:20230614T181304Z
LAST-MODIFIED:20230614T181304Z
UID:29231-1686996000-1687006800@www.hattiesburgms.com
SUMMARY:Columbia Kids’ Arts Festival
DESCRIPTION:Celebrate FestivalSouth 2023! The Kids’ Arts Festival is a free event for kids of all ages. Enjoy interactive experiences through hands-on art\, dance\, music\, and much more! \n
URL:https://www.hattiesburgms.com/event/columbia-kids-arts-festival-2/
LOCATION:Columbia Army National Gard Armory\, 1337 HWy 98 E\, Columbia\, MS\, 39429\, United States
CATEGORIES:Arts,Community Event,Events
ATTACH;FMTTYPE=image/png:https://www.hattiesburgms.com/wp-content/uploads/ylm6TOKQ-29.png
ORGANIZER;CN="Festival%20South":MAILTO:mike.lopinto@usm.edu
END:VEVENT
BEGIN:VEVENT
DTSTART;TZID=America/Chicago:20230617T130000
DTEND;TZID=America/Chicago:20230617T170000
DTSTAMP:20260421T154653
CREATED:20230614T181205Z
LAST-MODIFIED:20230614T181205Z
UID:29130-1687006800-1687021200@www.hattiesburgms.com
SUMMARY:FestivalSouth Youth Orchestra
DESCRIPTION:The FestivalSouth Orchestral and Chamber Music Academy students will perform a variety of music for small ensembles and for string orchestra that includes music from Encanto\, Frozen\, and others. \n
URL:https://www.hattiesburgms.com/event/festivalsouth-youth-orchestra/
LOCATION:Thomas Fine Arts Auditorium Stage at William Carey University\, 710 William Carey Pkwy\, Hattiesburg\, MS\, 39401\, United States
CATEGORIES:Arts,Community Event,Concert,Events
ATTACH;FMTTYPE=image/png:https://www.hattiesburgms.com/wp-content/uploads/ylm6TOKQ-6.png
ORGANIZER;CN="Festival%20South":MAILTO:mike.lopinto@usm.edu
END:VEVENT
BEGIN:VEVENT
DTSTART;TZID=America/Chicago:20230617T190000
DTEND;TZID=America/Chicago:20230617T190000
DTSTAMP:20260421T154653
CREATED:20230614T181304Z
LAST-MODIFIED:20230614T181304Z
UID:29233-1687028400-1687028400@www.hattiesburgms.com
SUMMARY:USA Dance Hattiesburg Chapter June Social Dance
DESCRIPTION:Experience the fun and excitement of ever-popular partner dances like Waltz\, Rumba\, and Swing on Hattiesburg’s best community dance floor.  Singles without partners and all dancing skill levels are welcome and encouraged to attend. \n
URL:https://www.hattiesburgms.com/event/usa-dance-hattiesburg-chapter-june-social-dance/
LOCATION:Jackie Dole Sherrill Community Center\, 220 West Front Street\, Hattiesburg\, MS\, 39401\, United States
CATEGORIES:Arts,Community Event,Concert,Events
ATTACH;FMTTYPE=image/png:https://www.hattiesburgms.com/wp-content/uploads/ylm6TOKQ-30.png
ORGANIZER;CN="Festival%20South":MAILTO:mike.lopinto@usm.edu
END:VEVENT
BEGIN:VEVENT
DTSTART;TZID=America/Chicago:20230617T193000
DTEND;TZID=America/Chicago:20230617T193000
DTSTAMP:20260421T154653
CREATED:20230614T181205Z
LAST-MODIFIED:20230614T181205Z
UID:29132-1687030200-1687030200@www.hattiesburgms.com
SUMMARY:Matt Maeson
DESCRIPTION:On the heels of performances at festivals including Bonnaroo\, Lollapalooza\, and Forecastle Matt Maeson\, comes to FestivalSouth for a one-night-only concert event. Known for his debut album\, Bank on the Funeral\, two EPs\, Who Killed Matt Maeson and The Hearse\, his song “Cringe” reached No. 7 on the Adult Alternative Songs chart then four weeks at No. 1 on the Billboard Alternative Songs chart. In 2019\, he held the longest running number-one single by a new artist. “Cringe” was certified gold by the RIAA in 2020 and Maeson returned to number one on the Billboard Alternative Songs chart with “Hallucinogenics\,”  which went on to top the Billboard Rock Airplay chart one week later. Maeson was featured in Illenium’s 2021 single “Heavenly Side” from their fourth full length studio album ‘Fallen Embers’. His full studio album\, Never Had to Leave\, was released in August 2022. \n
URL:https://www.hattiesburgms.com/event/matt-maeson/
LOCATION:Hattiesburg Saenger Theater\, 201 Forrest Street\, Hattiesburg\, MS\, 39403\, United States
CATEGORIES:Arts,Community Event,Concert,Events
ATTACH;FMTTYPE=image/png:https://www.hattiesburgms.com/wp-content/uploads/ylm6TOKQ-7.png
ORGANIZER;CN="Festival%20South":MAILTO:mike.lopinto@usm.edu
END:VEVENT
BEGIN:VEVENT
DTSTART;TZID=America/Chicago:20230617T213000
DTEND;TZID=America/Chicago:20230617T213000
DTSTAMP:20260421T154653
CREATED:20230614T181205Z
LAST-MODIFIED:20230614T181205Z
UID:29134-1687037400-1687037400@www.hattiesburgms.com
SUMMARY:Celebración Nocturna Featuring Arrebato Orquesta
DESCRIPTION:Spice up your evening with the internationally known Latin & Salsa Band\, Arrebato Orquesta. The 2023 winners of the Ecuadorian IFCI music award will be representing their country at Mississippi’s very own FestivalSouth! Check your worries at the door and come dance the night away! \n
URL:https://www.hattiesburgms.com/event/celebracion-nocturna-featuring-arrebato-orquesta/
LOCATION:Brewsky’s\, 3818 W 4th St\, Hattiesburg\, MS\, 39401\, United States
CATEGORIES:Arts,Community Event,Concert,Events
ATTACH;FMTTYPE=image/png:https://www.hattiesburgms.com/wp-content/uploads/ylm6TOKQ-8.png
ORGANIZER;CN="Festival%20South":MAILTO:mike.lopinto@usm.edu
END:VEVENT
END:VCALENDAR