BEGIN:VCALENDAR
VERSION:2.0
PRODID:-//City of Hattiesburg - ECPv5.0.0//NONSGML v1.0//EN
CALSCALE:GREGORIAN
METHOD:PUBLISH
X-WR-CALNAME:City of Hattiesburg
X-ORIGINAL-URL:https://www.hattiesburgms.com
X-WR-CALDESC:Events for City of Hattiesburg
BEGIN:VTIMEZONE
TZID:America/Chicago
BEGIN:DAYLIGHT
TZOFFSETFROM:-0600
TZOFFSETTO:-0500
TZNAME:CDT
DTSTART:20230312T080000
END:DAYLIGHT
BEGIN:STANDARD
TZOFFSETFROM:-0500
TZOFFSETTO:-0600
TZNAME:CST
DTSTART:20231105T070000
END:STANDARD
END:VTIMEZONE
BEGIN:VEVENT
DTSTART;TZID=America/Chicago:20230601T080000
DTEND;TZID=America/Chicago:20230624T170000
DTSTAMP:20260421T171038
CREATED:20230614T181147Z
LAST-MODIFIED:20230614T181147Z
UID:28954-1685606400-1687626000@www.hattiesburgms.com
SUMMARY:FestivalSouth
DESCRIPTION:The South’s most diverse and extensive arts festival returns to venues across the Pine Belt. Enjoy art\, music\, theatre\, dance\, food\, family\, and fun at a month-long series of free and ticketed events featuring many Southern Miss alumni\, faculty\, staff\, and students. \n
URL:https://www.hattiesburgms.com/event/festivalsouth-2/
CATEGORIES:Arts,Community Event,Concert,Events,Festival
ATTACH;FMTTYPE=image/jpeg:https://www.hattiesburgms.com/wp-content/uploads/SOM-BIG-2021-223-35.jpg
ORGANIZER;CN="School%20of%20Music":MAILTO:mike.lopinto@usm.edu
END:VEVENT
BEGIN:VEVENT
DTSTART;TZID=America/Chicago:20230616T080000
DTEND;TZID=America/Chicago:20230616T110000
DTSTAMP:20260421T171039
CREATED:20230614T181327Z
LAST-MODIFIED:20230614T181327Z
UID:29261-1686902400-1686913200@www.hattiesburgms.com
SUMMARY:Summer Vaccine Bash
DESCRIPTION:Southern Pines Healthy Pet Clinic is hosting a Summer Vaccine Bash for the residents of Hattiesburg\, Petal\, and surrounding areas! \nFor these dog-only events\, we will be offering low cost wellness services such as core vaccines\, flea prevention\, and heartworm tests. Thanks to a generous grant from Banfield Foundation\, the $10 exam fee has been waived and each pet may also receive a rabies vaccine free of charge. We are also providing three months of free heartworm prevention for large dogs that test negative for heartworms.  \nThese services are available for dogs who are at least 6 weeks of age and in healthy condition. For the safety of our staff and your pets\, all dogs must be on leashes. All Paw Pup Clinics are open to the public\, with no residency requirements and no appointment needed.  \nBecause they are outdoors\, these events will be dependent on the weather. We hope to see you and your furry friend there! \n
URL:https://www.hattiesburgms.com/event/summer-vaccine-bash-5/
LOCATION:Oak Grove Baptist Church\, 3037 Oak Grove Rd\, Hattiesburg\, MS\, 39402
CATEGORIES:Community Event
ATTACH;FMTTYPE=image/png:https://www.hattiesburgms.com/wp-content/uploads/Summer-Vaccine-Bash-Facebook-1-3.png
ORGANIZER;CN="Southern%20Pines%20Healthy%20Pet%20Clinic":MAILTO:info@getemfixed.com
END:VEVENT
BEGIN:VEVENT
DTSTART;TZID=America/Chicago:20230616T090000
DTEND;TZID=America/Chicago:20230616T170000
DTSTAMP:20260421T171039
CREATED:20230614T181304Z
LAST-MODIFIED:20230614T181304Z
UID:29226-1686906000-1686934800@www.hattiesburgms.com
SUMMARY:Singing with Freedom Featuring Krista Overby\, vocals and Jeffrey Reynolds\, piano
DESCRIPTION:Juneteenth is the celebration of freedom for African American slaves and the power of this day continues to resonate in strength\, solidarity\, and in song. Krista will take you on a journey with songs that represent not only the struggle that African Americans had to face\, but songs that represent freedom for an oppressed people. She will perform songs by powerful female vocalists such as Mahalia Jackson\, Billie Holliday\, Nancy Wilson\, and Aretha Franklin just to name a few.  This is a concert that you will not want to miss!! \n
URL:https://www.hattiesburgms.com/event/singing-with-freedom-featuring-krista-overby-vocals-and-jeffrey-reynolds-piano/
LOCATION:Twin Forks Rising\, 601 E. Pine St.\, Hattiesburg\, MS\, 39401\, United States
CATEGORIES:Arts,Community Event,Concert,Events
ORGANIZER;CN="Festival%20South":MAILTO:mike.lopinto@usm.edu
END:VEVENT
BEGIN:VEVENT
DTSTART;TZID=America/Chicago:20230616T123000
DTEND;TZID=America/Chicago:20230616T170000
DTSTAMP:20260421T171039
CREATED:20230614T181304Z
LAST-MODIFIED:20230614T181304Z
UID:29227-1686918600-1686934800@www.hattiesburgms.com
SUMMARY:FestivalSouth World Championship Golf Classic
DESCRIPTION:Join FestivalSouth for its second annual golf tournament and support our Artie Events for Families and the Mississippi Chapter of the Juvenile Diabetes Research Foundation\, providing for our youngest cultural lovers in the Pine Belt. \nTeams\, including Canebrake Country Club\, Hattiesburg Country Club\, Timberton Golf Club\, Bankers\, and Community Divisions\, will compete for Division and the FestivalSouth World Championship. The format will be a 2- person scramble utilizing handicaps to match competing teams. Scores from the top 4 teams from each Division will be used to crown the 2023 Festival South Golf Classic World Champion. \n
URL:https://www.hattiesburgms.com/event/festivalsouth-world-championship-golf-classic-2/
LOCATION:canebrake country club\, 1 cane drive\, Hattiesburg\, MS\, 39402\, United States
CATEGORIES:Community Event,Events
ATTACH;FMTTYPE=image/png:https://www.hattiesburgms.com/wp-content/uploads/ylm6TOKQ-28.png
ORGANIZER;CN="Festival%20South":MAILTO:mike.lopinto@usm.edu
END:VEVENT
BEGIN:VEVENT
DTSTART;TZID=America/Chicago:20230616T193000
DTEND;TZID=America/Chicago:20230616T193000
DTSTAMP:20260421T171039
CREATED:20230614T181205Z
LAST-MODIFIED:20230614T181205Z
UID:29128-1686943800-1686943800@www.hattiesburgms.com
SUMMARY:bee(R)thoven
DESCRIPTION:Beerthoven finds its inspiration in the private “salon” concerts of Beethoven’s time in an event that features live classical music\, beer\, and other refreshments. With favorites from Beethoven and others\, whether you prefer the lighter taste of a traditional lager or the heavier flavor of a stout\, you will find a musical pairing that suits your taste! \n
URL:https://www.hattiesburgms.com/event/beerthoven/
LOCATION:Hattiesburg Train Depot\, 308 Newman Street\, Hattiesburg\, MS\, 39401\, United States
CATEGORIES:Arts,Community Event,Concert,Events
ATTACH;FMTTYPE=image/png:https://www.hattiesburgms.com/wp-content/uploads/ylm6TOKQ-5.png
ORGANIZER;CN="Festival%20South":MAILTO:mike.lopinto@usm.edu
END:VEVENT
END:VCALENDAR