BEGIN:VCALENDAR
VERSION:2.0
PRODID:-//City of Hattiesburg - ECPv5.0.0//NONSGML v1.0//EN
CALSCALE:GREGORIAN
METHOD:PUBLISH
X-WR-CALNAME:City of Hattiesburg
X-ORIGINAL-URL:https://www.hattiesburgms.com
X-WR-CALDESC:Events for City of Hattiesburg
BEGIN:VTIMEZONE
TZID:America/Chicago
BEGIN:DAYLIGHT
TZOFFSETFROM:-0600
TZOFFSETTO:-0500
TZNAME:CDT
DTSTART:20230312T080000
END:DAYLIGHT
BEGIN:STANDARD
TZOFFSETFROM:-0500
TZOFFSETTO:-0600
TZNAME:CST
DTSTART:20231105T070000
END:STANDARD
END:VTIMEZONE
BEGIN:VEVENT
DTSTART;TZID=America/Chicago:20230601T080000
DTEND;TZID=America/Chicago:20230624T170000
DTSTAMP:20260422T034635
CREATED:20230614T181147Z
LAST-MODIFIED:20230614T181147Z
UID:28954-1685606400-1687626000@www.hattiesburgms.com
SUMMARY:FestivalSouth
DESCRIPTION:The South’s most diverse and extensive arts festival returns to venues across the Pine Belt. Enjoy art\, music\, theatre\, dance\, food\, family\, and fun at a month-long series of free and ticketed events featuring many Southern Miss alumni\, faculty\, staff\, and students. \n
URL:https://www.hattiesburgms.com/event/festivalsouth-2/
CATEGORIES:Arts,Community Event,Concert,Events,Festival
ATTACH;FMTTYPE=image/jpeg:https://www.hattiesburgms.com/wp-content/uploads/SOM-BIG-2021-223-35.jpg
ORGANIZER;CN="School%20of%20Music":MAILTO:mike.lopinto@usm.edu
END:VEVENT
BEGIN:VEVENT
DTSTART;TZID=America/Chicago:20230609T090000
DTEND;TZID=America/Chicago:20230609T170000
DTSTAMP:20260422T034635
CREATED:20230614T181303Z
LAST-MODIFIED:20230614T181303Z
UID:29180-1686301200-1686330000@www.hattiesburgms.com
SUMMARY:Celtic in your Cup
DESCRIPTION:Start your day at the pub!  There will be coffee instead of beer\, but the tunes and songs will be traditional Irish pub fare.  Join in on the silly songs\, or just sit back and savor your delicious refreshments. The best part of waking up is Celtic in your cup! \n
URL:https://www.hattiesburgms.com/event/celtic-in-your-cup/
LOCATION:Osher Lifelong Learning Institute Art Room at USM\, 3601 Pearl Street\, Hattiesburg\, MS\, 39406\, United States
CATEGORIES:Arts,Community Event,Concert,Events
ATTACH;FMTTYPE=image/png:https://www.hattiesburgms.com/wp-content/uploads/ylm6TOKQ-22.png
ORGANIZER;CN="Festival%20South":MAILTO:mike.lopinto@usm.edu
END:VEVENT
BEGIN:VEVENT
DTSTART;TZID=America/Chicago:20230609T153000
DTEND;TZID=America/Chicago:20230609T170000
DTSTAMP:20260422T034635
CREATED:20230614T181205Z
LAST-MODIFIED:20230614T181205Z
UID:29114-1686324600-1686330000@www.hattiesburgms.com
SUMMARY:Songs of Love and Loss Featuring Jonathan Yarrington\, tenor with Jeanette Fontaine\, mezzo soprano and Zhaolei Xie\, piano
DESCRIPTION:“Songs of Love and Loss” explores life’s most intense emotions\, from the anticipation and anxiety of early love\, to the joy and ecstasy of love fulfilled\, to the heartbreak and despair of rejection and loss. Join us on this emotional odyssey through the songs of Schubert\, Janáček\, and Britten. \n
URL:https://www.hattiesburgms.com/event/songs-of-love-and-loss-featuring-jonathan-yarrington-tenor-with-jeanette-fontaine-mezzo-soprano-and-zhaolei-xie-piano/
LOCATION:Parkway Heights United Methodist Church\, 2420 Hardy Street\, Hattiesburg\, MS\, 39401\, United States
CATEGORIES:Arts,Community Event,Concert,Events
ATTACH;FMTTYPE=image/png:https://www.hattiesburgms.com/wp-content/uploads/ylm6TOKQ.png
ORGANIZER;CN="Festival%20South":MAILTO:mike.lopinto@usm.edu
END:VEVENT
BEGIN:VEVENT
DTSTART;TZID=America/Chicago:20230609T190000
DTEND;TZID=America/Chicago:20230609T190000
DTSTAMP:20260422T034635
CREATED:20230614T181303Z
LAST-MODIFIED:20230614T181303Z
UID:29182-1686337200-1686337200@www.hattiesburgms.com
SUMMARY:Downtown Summer Tunes Featuring Hattiesburlesque Booty Camp Band
DESCRIPTION:Great music in the great outdoors and always a good time! Friday evening at Town Square Park\, enjoy Summer Tunes with food\, drinks\, arts\, and crafts available for purchase. Bring chairs and the whole family for a picnic to enjoy an evening under the stars. \n
URL:https://www.hattiesburgms.com/event/downtown-summer-tunes-featuring-hattiesburlesque-booty-camp-band/
LOCATION:Town Square Park\, Hattiesburg\, MS\, 39402\, United States
CATEGORIES:Arts,Community Event,Concert,Events
ATTACH;FMTTYPE=image/png:https://www.hattiesburgms.com/wp-content/uploads/ylm6TOKQ-23.png
ORGANIZER;CN="Festival%20South":MAILTO:mike.lopinto@usm.edu
END:VEVENT
END:VCALENDAR