BEGIN:VCALENDAR
VERSION:2.0
PRODID:-//City of Hattiesburg - ECPv5.0.0//NONSGML v1.0//EN
CALSCALE:GREGORIAN
METHOD:PUBLISH
X-WR-CALNAME:City of Hattiesburg
X-ORIGINAL-URL:https://www.hattiesburgms.com
X-WR-CALDESC:Events for City of Hattiesburg
BEGIN:VTIMEZONE
TZID:America/Chicago
BEGIN:DAYLIGHT
TZOFFSETFROM:-0600
TZOFFSETTO:-0500
TZNAME:CDT
DTSTART:20230312T080000
END:DAYLIGHT
BEGIN:STANDARD
TZOFFSETFROM:-0500
TZOFFSETTO:-0600
TZNAME:CST
DTSTART:20231105T070000
END:STANDARD
END:VTIMEZONE
BEGIN:VEVENT
DTSTART;TZID=America/Chicago:20230428T090000
DTEND;TZID=America/Chicago:20230428T120000
DTSTAMP:20260424T204241
CREATED:20230614T181147Z
LAST-MODIFIED:20230614T181147Z
UID:29061-1682672400-1682683200@www.hattiesburgms.com
SUMMARY:Built for Greatness Day
DESCRIPTION:This is our second annual “Built for Greatness Day” event.  Toby Barker will speak at the opening ceremony that day. Alumni\, community\, and parents are invited. \n
URL:https://www.hattiesburgms.com/event/built-for-greatness-day-2/
CATEGORIES:Community Event,Education
ATTACH;FMTTYPE=image/jpeg:https://www.hattiesburgms.com/wp-content/uploads/BFGEnglish-version-Abi-copy.jpg
ORGANIZER;CN="Hattieburg%20High%20School":MAILTO:jennie.noonkester@hattiesburgpsd.com
END:VEVENT
BEGIN:VEVENT
DTSTART;TZID=America/Chicago:20230428T090000
DTEND;TZID=America/Chicago:20230428T120000
DTSTAMP:20260424T204241
CREATED:20230614T181147Z
LAST-MODIFIED:20230614T181147Z
UID:29063-1682672400-1682683200@www.hattiesburgms.com
SUMMARY:Built for Greatness Day
DESCRIPTION:This is our second annual “Built for Greatness Day” event.  Toby Barker will speak at the opening ceremony that day. Alumni\, community\, and parents are invited. \n
URL:https://www.hattiesburgms.com/event/built-for-greatness-day-3/
CATEGORIES:Community Event,Education
ORGANIZER;CN="Hattieburg%20High%20School":MAILTO:jennie.noonkester@hattiesburgpsd.com
END:VEVENT
BEGIN:VEVENT
DTSTART;TZID=America/Chicago:20230428T190000
DTEND;TZID=America/Chicago:20230428T190000
DTSTAMP:20260424T204241
CREATED:20230322T143051Z
LAST-MODIFIED:20230322T143051Z
UID:28910-1682708400-1682708400@www.hattiesburgms.com
SUMMARY:Ambassador Series: Season Finale Concert
DESCRIPTION:The Civic Chorale closes out the year with Season Finale Concerts of sacred music and choral standards.  We are excited to be sharing the stage with The Southern Chorale and their conductor\, Dr. Gregory Fuller\, for the Friday night concert at Our Lady of the Gulf Catholic Church in Bay St. Louis.  On Sunday afternoon\, we will also present this concert in Fleming Auditorium on USM’s Gulf Park Campus in Long Beach.  Admission for all Civic Chorale concerts is free (donations are gratefully accepted). \n
URL:https://www.hattiesburgms.com/event/ambassador-series-season-finale-concert/
LOCATION:Our Lady of The GUlf\, 228 South Beach Blvd.\, Bay St. Louis\, MS\, 39520\, United States
CATEGORIES:Arts,Campus Event at Southern Miss,Community Event,Concert
ATTACH;FMTTYPE=image/jpeg:https://www.hattiesburgms.com/wp-content/uploads/SOM-BIG-2021-223-31.jpg
ORGANIZER;CN="School%20of%20Music":MAILTO:mike.lopinto@usm.edu
END:VEVENT
BEGIN:VEVENT
DTSTART;TZID=America/Chicago:20230428T190000
DTEND;TZID=America/Chicago:20230428T190000
DTSTAMP:20260424T204241
CREATED:20230322T143051Z
LAST-MODIFIED:20230322T143051Z
UID:28919-1682708400-1682708400@www.hattiesburgms.com
SUMMARY:The Southern Chorale & Southern Miss Gulf Coast Civic Chorale Sacred Concert
DESCRIPTION:The School of Music presents The Southern Chorale and The Southern Miss Gulf Coast Civic Chorale in a special joint concert\, featuring a variety of sacred music from the choral repertoire. \n
URL:https://www.hattiesburgms.com/event/the-southern-chorale-southern-miss-gulf-coast-civic-chorale-sacred-concert/
LOCATION:Our Lady of The GUlf\, 228 South Beach Blvd.\, Bay St. Louis\, MS\, 39520\, United States
CATEGORIES:Arts,Campus Event at Southern Miss,Community Event,Concert
ATTACH;FMTTYPE=image/jpeg:https://www.hattiesburgms.com/wp-content/uploads/SOM-BIG-2021-223-32.jpg
ORGANIZER;CN="School%20of%20Music":MAILTO:mike.lopinto@usm.edu
END:VEVENT
END:VCALENDAR