BEGIN:VCALENDAR
VERSION:2.0
PRODID:-//City of Hattiesburg - ECPv5.0.0//NONSGML v1.0//EN
CALSCALE:GREGORIAN
METHOD:PUBLISH
X-WR-CALNAME:City of Hattiesburg
X-ORIGINAL-URL:https://www.hattiesburgms.com
X-WR-CALDESC:Events for City of Hattiesburg
BEGIN:VTIMEZONE
TZID:America/Chicago
BEGIN:DAYLIGHT
TZOFFSETFROM:-0600
TZOFFSETTO:-0500
TZNAME:CDT
DTSTART:20230312T080000
END:DAYLIGHT
BEGIN:STANDARD
TZOFFSETFROM:-0500
TZOFFSETTO:-0600
TZNAME:CST
DTSTART:20231105T070000
END:STANDARD
END:VTIMEZONE
BEGIN:VEVENT
DTSTART;TZID=America/Chicago:20230427T150000
DTEND;TZID=America/Chicago:20230427T180000
DTSTAMP:20260424T222438
CREATED:20230614T181148Z
LAST-MODIFIED:20230614T181148Z
UID:29071-1682607600-1682618400@www.hattiesburgms.com
SUMMARY:City of Hattiesburg/Keep Hattiesburg Beautiful Earth Day 2023 Celebration
DESCRIPTION:The City of Hattiesburg’s Public Works/Sanitation & Recycling\, along with Keep Hattiesburg Beautiful will host the annual Earth Day Celebration at Town Square Park.  The event will take place on Thursday\, April 27th in conjunction with the weekly Farmer’s Market. \n
URL:https://www.hattiesburgms.com/event/city-of-hattiesburg-keep-hattiesburg-beautiful-earth-day-2023-celebration/
LOCATION:Town Square Park\, Hattiesburg\, MS\, 39402\, United States
CATEGORIES:Community Event
ATTACH;FMTTYPE=image/jpeg:https://www.hattiesburgms.com/wp-content/uploads/Earth-Day-2023A.jpg
END:VEVENT
BEGIN:VEVENT
DTSTART;TZID=America/Chicago:20230427T193000
DTEND;TZID=America/Chicago:20230427T193000
DTSTAMP:20260424T222438
CREATED:20230322T143051Z
LAST-MODIFIED:20230322T143051Z
UID:28908-1682623800-1682623800@www.hattiesburgms.com
SUMMARY:Future Stars and Firebird
DESCRIPTION:In its final concert of the season of classics\, the Symphony Orchestra will feature this year’s William T. Gower Concerto Competition Winners.  Three talented student musicians will be chosen to perform solo concertos with the Orchestra.  This is always one of the Symphony’s best attended concerts as our patrons come out to support these talented students.  The Symphony closes the season with Stravinsky’s Firebird Suite. This “classic” work is well-known to most orchestra patrons\, and will bring an exciting close to the season. \n
URL:https://www.hattiesburgms.com/event/future-stars-and-firebird/
LOCATION:Bennett Auditorium\, 113 East Memorial Drive\, Hattiesburg\, MS\, 39406\, United States
CATEGORIES:Arts,Campus Event at Southern Miss,Community Event,Concert
ATTACH;FMTTYPE=image/jpeg:https://www.hattiesburgms.com/wp-content/uploads/SOM-BIG-2021-223-30.jpg
ORGANIZER;CN="School%20of%20Music":MAILTO:mike.lopinto@usm.edu
END:VEVENT
END:VCALENDAR