BEGIN:VCALENDAR
VERSION:2.0
PRODID:-//City of Hattiesburg - ECPv5.0.0//NONSGML v1.0//EN
CALSCALE:GREGORIAN
METHOD:PUBLISH
X-WR-CALNAME:City of Hattiesburg
X-ORIGINAL-URL:https://www.hattiesburgms.com
X-WR-CALDESC:Events for City of Hattiesburg
BEGIN:VTIMEZONE
TZID:America/Chicago
BEGIN:DAYLIGHT
TZOFFSETFROM:-0600
TZOFFSETTO:-0500
TZNAME:CDT
DTSTART:20230312T080000
END:DAYLIGHT
BEGIN:STANDARD
TZOFFSETFROM:-0500
TZOFFSETTO:-0600
TZNAME:CST
DTSTART:20231105T070000
END:STANDARD
END:VTIMEZONE
BEGIN:VEVENT
DTSTART;TZID=America/Chicago:20230415T090000
DTEND;TZID=America/Chicago:20230415T130000
DTSTAMP:20260425T170335
CREATED:20230322T143050Z
LAST-MODIFIED:20230322T143050Z
UID:28880-1681549200-1681563600@www.hattiesburgms.com
SUMMARY:Hattiesburg Paw Pup Clinic
DESCRIPTION:Southern Pines Healthy Pet Clinic is hosting a Paw Pup Clinic on April 15th from 9am-1pm for the residents of Hattiesburg and surrounding areas.\nFor these dog-only events\, we will be offering low cost wellness services such as core vaccines\, flea prevention\, and heartworm tests. A $10 basic exam is required. These services are available for dogs who are at least 6 weeks of age and in healthy condition. For the safety of our staff and your pets\, all dogs must be on leashes.\nThis event will be held at Edwards Street Fellowship Center 1919 Edwards St Hattiesburg\, and because they are outdoors\, will be dependent on the weather. We hope you and your furry friends will join us for this very special event!\n
URL:https://www.hattiesburgms.com/event/hattiesburg-paw-pup-clinic-2/
LOCATION:Edwards Street Fellowship Center\, 1919 Edwards St\, Hattiesburg\, MS\, 39401\, United States
CATEGORIES:Community Event
ATTACH;FMTTYPE=image/png:https://www.hattiesburgms.com/wp-content/uploads/2-5.png
ORGANIZER;CN="Southern%20Pines%20Healthy%20Pet%20Clinic":MAILTO:info@getemfixed.com
END:VEVENT
BEGIN:VEVENT
DTSTART;TZID=America/Chicago:20230415T110000
DTEND;TZID=America/Chicago:20230415T130000
DTSTAMP:20260425T170335
CREATED:20221121T214528Z
LAST-MODIFIED:20221121T214528Z
UID:28272-1681556400-1681563600@www.hattiesburgms.com
SUMMARY:Take a Seat with HAC - Creative Chair Design Contest
DESCRIPTION:Take a Seat with HAC – Creative Chair Design Contest Exhibit (Submissions Open to the Public) \n11am – Informative presentation by Jennifer Torres with reception to follow. Hattiesburg Cultural Center \n(Free and open to the public) \nFor more information on how to participate please go to our website. \nhttps://www.hattiesburgartscouncil.com/event-details/take-a-seat-with-hac-creative-chair-design-contest-exhibit \n
URL:https://www.hattiesburgms.com/event/take-a-seat-with-hac-creative-chair-design-contest/
LOCATION:Hattiesburg Cultural Center\, 723 Main St\, Hattiesburg\, MS\, 39401\, United States
CATEGORIES:Arts
ATTACH;FMTTYPE=image/jpeg:https://www.hattiesburgms.com/wp-content/uploads/HAC.Seat_.009.jpg
ORGANIZER;CN="Hattiesburg%20Arts%20Council":MAILTO:hattiesburgartscouncil@gmail.com
END:VEVENT
BEGIN:VEVENT
DTSTART;TZID=America/Chicago:20230415T193000
DTEND;TZID=America/Chicago:20230415T193000
DTSTAMP:20260425T170335
CREATED:20230614T181147Z
LAST-MODIFIED:20230614T181147Z
UID:29034-1681587000-1681587000@www.hattiesburgms.com
SUMMARY:Southern Miss Percussion Ensemble
DESCRIPTION:The incredible percussionists of the Southern Miss percussion studio present an assortment of works for various groups with special guests\, the percussion ensemble from Tenerife. \n
URL:https://www.hattiesburgms.com/event/southern-miss-percussion-ensemble/
LOCATION:Mannoni Performing Arts Center\, 2701 Hardy Street\, Hattiesburg\, MS\, 39402\, United States
CATEGORIES:Arts,Campus Event at Southern Miss,Community Event,Concert
ATTACH;FMTTYPE=image/jpeg:https://www.hattiesburgms.com/wp-content/uploads/SOM-BIG-2021-223-37.jpg
ORGANIZER;CN="School%20of%20Music":MAILTO:mike.lopinto@usm.edu
END:VEVENT
END:VCALENDAR