BEGIN:VCALENDAR
VERSION:2.0
PRODID:-//City of Hattiesburg - ECPv5.0.0//NONSGML v1.0//EN
CALSCALE:GREGORIAN
METHOD:PUBLISH
X-WR-CALNAME:City of Hattiesburg
X-ORIGINAL-URL:https://www.hattiesburgms.com
X-WR-CALDESC:Events for City of Hattiesburg
BEGIN:VTIMEZONE
TZID:America/Chicago
BEGIN:DAYLIGHT
TZOFFSETFROM:-0600
TZOFFSETTO:-0500
TZNAME:CDT
DTSTART:20230312T080000
END:DAYLIGHT
BEGIN:STANDARD
TZOFFSETFROM:-0500
TZOFFSETTO:-0600
TZNAME:CST
DTSTART:20231105T070000
END:STANDARD
END:VTIMEZONE
BEGIN:VEVENT
DTSTART;TZID=America/Chicago:20230408T110000
DTEND;TZID=America/Chicago:20230408T140000
DTSTAMP:20260426T034351
CREATED:20230614T181147Z
LAST-MODIFIED:20230614T181147Z
UID:28981-1680951600-1680962400@www.hattiesburgms.com
SUMMARY:Easter Fun Day
DESCRIPTION:“He has risen\, just as He said.” Matthew 28:6 \n  \nHere at Christian Services\, Inc. we love our community. We especially love to show God’s love and blessing to the children. \nWe celebrate the fact that Jesus arose after three days. Because of his sacrifice\, we are able to be with him in eternal life. We want to celebrate this day by fellowshipping with our great community. \nCome fellowship with us April 8th\, 2023 and let us bless you. We have many festivities for the children to enjoy such as a cross hunt\, music\, Easter activities\, resurrection story\, food\, and so much more. The event is from 11am-2pm and we ask that all children under 12 is accompanied by an adult. \nFor more Info call 601-582-5683. SEE YOU THERE!!! \n
URL:https://www.hattiesburgms.com/event/easter-fun-day/
LOCATION:Christian Services\, 301 East 2nd St\, Hattiesburg\, MS\, 39401\, United States
CATEGORIES:Community Event
ATTACH;FMTTYPE=image/png:https://www.hattiesburgms.com/wp-content/uploads/Easter-Fun-Day-2023-FB.png
ORGANIZER;CN="Christian%20Services":MAILTO:volunteer.christianservices@gmail.com
END:VEVENT
END:VCALENDAR