BEGIN:VCALENDAR
VERSION:2.0
PRODID:-//City of Hattiesburg - ECPv5.0.0//NONSGML v1.0//EN
CALSCALE:GREGORIAN
METHOD:PUBLISH
X-WR-CALNAME:City of Hattiesburg
X-ORIGINAL-URL:https://www.hattiesburgms.com
X-WR-CALDESC:Events for City of Hattiesburg
BEGIN:VTIMEZONE
TZID:America/Chicago
BEGIN:DAYLIGHT
TZOFFSETFROM:-0600
TZOFFSETTO:-0500
TZNAME:CDT
DTSTART:20250309T080000
END:DAYLIGHT
BEGIN:STANDARD
TZOFFSETFROM:-0500
TZOFFSETTO:-0600
TZNAME:CST
DTSTART:20251102T070000
END:STANDARD
END:VTIMEZONE
BEGIN:VEVENT
DTSTART;TZID=America/Chicago:20250905T180000
DTEND;TZID=America/Chicago:20250905T220000
DTSTAMP:20260425T234426
CREATED:20250428T204622Z
LAST-MODIFIED:20250428T204622Z
UID:33600-1757095200-1757109600@www.hattiesburgms.com
SUMMARY:Fur Ball: The Great Catsby
DESCRIPTION:Southern Pines Animal Shelter presents Fur Ball: The Great Catbsy! Step into the glitz and glamour of the Roaring Twenties on September 5th from 6-10pm at The Bottling Company. This dazzling soirée raises funds to give pets of the Pine Belt the care\, love\, and second chances they deserve. Enjoy heavy hors d’oeuvres\, an open bar\, live music\, and dancing. Try your luck at our wine pull\, bid in our silent and live auctions\, or upgrade to VIP treatment! Don your finest flapper dress or sharpest suit and join us for an unforgettable night where every moment helps bring pets and people together. Purchase tickets now at onecau.se/spasfurball. It’s the cat’s pajamas—and all for pets in need! \n
URL:https://www.hattiesburgms.com/event/fur-ball-the-great-catsby/
LOCATION:The Bottling Co.\, 126 Mobile Street\, Hattiesburg\, Mississippi\, 39401
CATEGORIES:Ball/Gala,Nonprofit Fundraiser
ATTACH;FMTTYPE=image/png:https://www.hattiesburgms.com/wp-content/uploads/Fur-Ball-2025-Square.png
ORGANIZER;CN="Southern%20Pines%20Animal%20Shelter":MAILTO:info@southernpinesanimalshelter.org
END:VEVENT
END:VCALENDAR