BEGIN:VCALENDAR
VERSION:2.0
PRODID:-//City of Hattiesburg - ECPv5.0.0//NONSGML v1.0//EN
CALSCALE:GREGORIAN
METHOD:PUBLISH
X-WR-CALNAME:City of Hattiesburg
X-ORIGINAL-URL:https://www.hattiesburgms.com
X-WR-CALDESC:Events for City of Hattiesburg
BEGIN:VTIMEZONE
TZID:America/Chicago
BEGIN:DAYLIGHT
TZOFFSETFROM:-0600
TZOFFSETTO:-0500
TZNAME:CDT
DTSTART:20250309T080000
END:DAYLIGHT
BEGIN:STANDARD
TZOFFSETFROM:-0500
TZOFFSETTO:-0600
TZNAME:CST
DTSTART:20251102T070000
END:STANDARD
END:VTIMEZONE
BEGIN:VEVENT
DTSTART;TZID=America/Chicago:20250804T080000
DTEND;TZID=America/Chicago:20250808T170000
DTSTAMP:20260424T034841
CREATED:20250805T173753Z
LAST-MODIFIED:20250805T173753Z
UID:34027-1754294400-1754672400@www.hattiesburgms.com
SUMMARY:SEMRHI Celebrates National Health Center Week 2025
DESCRIPTION:\nJoin SEMRHI for National Health Center Week as we celebrate 60 years of community health centers delivering quality\, affordable healthcare to our communities.\n\n\n\nAugust 4 – August 8\, stop by one of our locations in Beaumont\, Brooklyn\, Hattiesburg\, New Augusta\, Picayune\, Seminary\, Sumrall\, or our SEMRHI Mobile Unit to receive FREE health screenings. No appointment is required!\n\n\n\nHelp us spread the word and show your support! For more details\, call (601) 658-0058.\n#NHCW2025 #ValueCHCs #HealthCenters60YearsStrong #SEMRHItakescareofyou\n\n
URL:https://www.hattiesburgms.com/event/semrhi-celebrates-national-health-center-week-2025/
LOCATION:Hattiesburg Family Health Center\, 66 Old Airport Road\, Hattiesburg\, MS\, 39401\, United States
CATEGORIES:Community Event
ATTACH;FMTTYPE=image/jpeg:https://www.hattiesburgms.com/wp-content/uploads/NHCW2025_English.jpg
ORGANIZER;CN="Southeast%20Mississippi%20Rural%20Health%20Initiative%2C%20Inc.%20%28SEMRHI%29":MAILTO:bdixon@semrhi.com
END:VEVENT
BEGIN:VEVENT
DTSTART;TZID=America/Chicago:20250807T180000
DTEND;TZID=America/Chicago:20250807T193000
DTSTAMP:20260424T034841
CREATED:20250805T173753Z
LAST-MODIFIED:20250805T173753Z
UID:33937-1754589600-1754595000@www.hattiesburgms.com
SUMMARY:African American Female Health Initiative
DESCRIPTION:Free educational classes & workshop activities aimed to reduce Cardiovascular Health Risk. Classes will be interactive and fun. They include content on weight\, BMI\, healthy diet\, nutrition\, reading food labels\, grocery shopping\, exercise\, general education on blood pressure\, diabetes\, mental health and other health issues. \n
URL:https://www.hattiesburgms.com/event/african-american-female-health-initiative/2025-08-07/
LOCATION:1313 Country Club RD\, hattiesburg\, MS\, 39401\, United States
CATEGORIES:Awareness,Community Event,Education
ATTACH;FMTTYPE=image/jpeg:https://www.hattiesburgms.com/wp-content/uploads/Red-and-White-Illustrative-International-Nurses-Day-Instagram-Post-5.jpeg
ORGANIZER;CN="Breakthrough%20Community%20Services":MAILTO:Tessie.w.reed2@gmail.com
END:VEVENT
END:VCALENDAR