BEGIN:VCALENDAR
VERSION:2.0
PRODID:-//City of Hattiesburg - ECPv5.0.0//NONSGML v1.0//EN
CALSCALE:GREGORIAN
METHOD:PUBLISH
X-WR-CALNAME:City of Hattiesburg
X-ORIGINAL-URL:https://www.hattiesburgms.com
X-WR-CALDESC:Events for City of Hattiesburg
BEGIN:VTIMEZONE
TZID:America/Chicago
BEGIN:DAYLIGHT
TZOFFSETFROM:-0600
TZOFFSETTO:-0500
TZNAME:CDT
DTSTART:20250309T080000
END:DAYLIGHT
BEGIN:STANDARD
TZOFFSETFROM:-0500
TZOFFSETTO:-0600
TZNAME:CST
DTSTART:20251102T070000
END:STANDARD
END:VTIMEZONE
BEGIN:VEVENT
DTSTART;TZID=America/Chicago:20250609T080000
DTEND;TZID=America/Chicago:20250718T120000
DTSTAMP:20260422T210152
CREATED:20250402T150413Z
LAST-MODIFIED:20250402T150413Z
UID:33360-1749456000-1752840000@www.hattiesburgms.com
SUMMARY:Black History Theatre Summer Workshop
DESCRIPTION:Six Week Production of the stage play “Imitation of Life.” \nWorkshop Production June 9-July 18\, Mon-Fri 8:00 a.m.-12:00 p.m.\nScholarships Available\, Ages: 13-19\nFor more information call:\n228-235-9791 or 601-501-0618\nEmail: blackhistorytheatre@gmail.com\nVisit: www.http://blackhistorytheatre.org \nRoles Needed:\nLora-struggling actress and single Mom (Caucasian or light skinned)\nAnnie: homeless single Mom (African American)\nSusie:grade school student and Sarah Jane’s best friend (young caucasian girl)\nSarah Jane: Annie’s daughter (mixed race young woman or light skinned)\nSara Jane : Annie’s daughter (mixed race teenager or light skinned)\nSara Jane: Annie’s daughter (mixed race grade school student or light skinned)\nFrankie: Sarah Jane’s boyfriend (white caucasian male or light skinned)\nNight Club Owner: white caucasian male\, singer: black female\, teacher: white female\nExtras: school\, funeral and night club attendees \nIf you are interested in learning any of the following; call today for your application.\nActor/Performing Director Prop Design Playbill Designer\nWriting Makeup Artist Costume Design House Manager\nUnderstudy Advertising Media Filmmaking\nHair Stylist Sound Effects Staging Stage Lighting\nStage Manager Assistant Director Reading Scripts Musical Director \nBlack History Theatre is a not-for-profit 501c3 Organization \n
URL:https://www.hattiesburgms.com/event/black-history-theatre-summer-workshop/
LOCATION:Danny Hinton Community Center\, 225 Tatum Road\, Hattiesburg\, MS\, 39401\, United States
CATEGORIES:Education,Workshop or Seminar
ATTACH;FMTTYPE=image/jpeg:https://www.hattiesburgms.com/wp-content/uploads/Black-History-Theatre-Workshop-Flyer.jpg
ORGANIZER;CN="Black%20History%20Theatre%20Performing%20Arts":MAILTO:blackhistorytheatre@gmail.com
END:VEVENT
END:VCALENDAR