BEGIN:VCALENDAR
VERSION:2.0
PRODID:-//City of Hattiesburg - ECPv5.0.0//NONSGML v1.0//EN
CALSCALE:GREGORIAN
METHOD:PUBLISH
X-WR-CALNAME:City of Hattiesburg
X-ORIGINAL-URL:https://www.hattiesburgms.com
X-WR-CALDESC:Events for City of Hattiesburg
BEGIN:VTIMEZONE
TZID:America/Chicago
BEGIN:DAYLIGHT
TZOFFSETFROM:-0600
TZOFFSETTO:-0500
TZNAME:CDT
DTSTART:20240310T080000
END:DAYLIGHT
BEGIN:STANDARD
TZOFFSETFROM:-0500
TZOFFSETTO:-0600
TZNAME:CST
DTSTART:20241103T070000
END:STANDARD
END:VTIMEZONE
BEGIN:VEVENT
DTSTART;TZID=America/Chicago:20240622T100000
DTEND;TZID=America/Chicago:20240622T130000
DTSTAMP:20260422T111225
CREATED:20240605T194823Z
LAST-MODIFIED:20240605T194823Z
UID:31243-1719050400-1719061200@www.hattiesburgms.com
SUMMARY:ARTIE EVENT FOR FAMILIES - Mississippi Made & More presents Artie’s Alley Adventure in partnership with Corner Market\, Lamar County
DESCRIPTION:Celebrate the closing of a wonderful month of Artie Adventures! Join Artie in the Hattiesburg Pocket Museum Alley for art experiences\, music\, dance\, games\, and more. Artie will be joined by several local family resource organizations who will provide free and fun activities for kids of all ages! \n
URL:https://www.hattiesburgms.com/event/artie-event-for-families-mississippi-made-more-presents-arties-alley-adventure-in-partnership-with-corner-market-lamar-county/
LOCATION:Hattiesburg Pocket Museum\, 119 W Front St\, Hattiesburg\, MS\, 39401\, United States
CATEGORIES:Arts,Community Event,Festival
ATTACH;FMTTYPE=image/png:https://www.hattiesburgms.com/wp-content/uploads/ARTIE’S-ALLEY-ADVENTURE.png
ORGANIZER;CN="Festival%20South":MAILTO:mike.lopinto@usm.edu
END:VEVENT
BEGIN:VEVENT
DTSTART;TZID=America/Chicago:20240622T193000
DTEND;TZID=America/Chicago:20240622T193000
DTSTAMP:20260422T111225
CREATED:20240605T194454Z
LAST-MODIFIED:20240605T194454Z
UID:31058-1719084600-1719084600@www.hattiesburgms.com
SUMMARY:Journey On! A Symphonic Experience featuring the music of Journey featuring Storm Wade and the FestivalOrchestra
DESCRIPTION:FestivalSouth and Forrest General presents a cast of incredible singers joins the FestivalOrchestra in this Symphonic Rock Concert to commemorate Journey’s more than 50 years of music. A meteoric force in the stadium rock scene\, Journey insured their legacy in rock ‘n’ roll history using a mix of musical virtuosity\, soaring balladry\, and undeniable appeal. Journey’s anthems can still be heard today playing regularly during sports games\, campaign tours\, singing competitions and many other big moments in life. Presented in partnership with City of Hattiesburg\, Cadence Bank\, and Southern Beverage\, don’t miss this one-night-only FestivalFinale! \n
URL:https://www.hattiesburgms.com/event/journey-on-a-symphonic-experience-featuring-the-music-of-journey-featuring-storm-wade-and-the-festivalorchestra/
LOCATION:Hattiesburg Saenger Theater\, 201 Forrest Street\, Hattiesburg\, MS\, 39403\, United States
CATEGORIES:Arts,Concert,Events
ATTACH;FMTTYPE=image/png:https://www.hattiesburgms.com/wp-content/uploads/JOURNEY-ON.png
ORGANIZER;CN="Festival%20South":MAILTO:mike.lopinto@usm.edu
END:VEVENT
END:VCALENDAR