BEGIN:VCALENDAR
VERSION:2.0
PRODID:-//City of Hattiesburg - ECPv5.0.0//NONSGML v1.0//EN
CALSCALE:GREGORIAN
METHOD:PUBLISH
X-WR-CALNAME:City of Hattiesburg
X-ORIGINAL-URL:https://www.hattiesburgms.com
X-WR-CALDESC:Events for City of Hattiesburg
BEGIN:VTIMEZONE
TZID:America/Chicago
BEGIN:DAYLIGHT
TZOFFSETFROM:-0600
TZOFFSETTO:-0500
TZNAME:CDT
DTSTART:20240310T080000
END:DAYLIGHT
BEGIN:STANDARD
TZOFFSETFROM:-0500
TZOFFSETTO:-0600
TZNAME:CST
DTSTART:20241103T070000
END:STANDARD
END:VTIMEZONE
BEGIN:VEVENT
DTSTART;TZID=America/Chicago:20240621T090000
DTEND;TZID=America/Chicago:20240621T090000
DTSTAMP:20260422T094848
CREATED:20240605T194822Z
LAST-MODIFIED:20240605T194822Z
UID:31236-1718960400-1718960400@www.hattiesburgms.com
SUMMARY:FESTIVALMUSIC - American Bombshells - A Patriotic Celebration! featuring Kassidy Chandler and Rachel Claire Stevens with pianist Kay Guiles
DESCRIPTION:Stand up and salute as we conclude our morning music events with a bevy of brilliant patriotic songs and show tunes sung by a dynamite duo of bombshells the likes of whom haven’t been seen or heard like this since the days of the USO. \n
URL:https://www.hattiesburgms.com/event/festivalmusic-american-bombshells-a-patriotic-celebration-featuring-kassidy-chandler-and-rachel-claire-stevens-with-pianist-kay-guiles/
LOCATION:Quinlan-Hammond Hall of Hammond – USM Campus\, 200 N 35th Ave.\, Hattiesburg\, MS\, 39402\, United States
CATEGORIES:Arts,Concert,Festival
ATTACH;FMTTYPE=image/png:https://www.hattiesburgms.com/wp-content/uploads/AMERICAN-BOMBSHELLS.png
ORGANIZER;CN="Festival%20South":MAILTO:mike.lopinto@usm.edu
END:VEVENT
BEGIN:VEVENT
DTSTART;TZID=America/Chicago:20240621T150000
DTEND;TZID=America/Chicago:20240621T150000
DTSTAMP:20260422T094848
CREATED:20240605T194822Z
LAST-MODIFIED:20240605T194822Z
UID:31239-1718982000-1718982000@www.hattiesburgms.com
SUMMARY:FESTIVALMUSIC – Forrest County presents Summer in the South featuring Betsy Uschkrat\, soprano and Zhaolei Xie\, piano in partnership with Coca-Cola\, Payne Company\, VERB Architecture
DESCRIPTION:This is a program of virtuosity\, storytelling and the variety of human experience through soprano voice and piano. Depicting the beauty of rural Americana\, Samuel Barber’s “Knoxville Summer of 1915” expresses the essence of peace and gratitude that we enjoy in the South. The program also includes Jake Heggie’s “At the Statue of Venus” where a soprano waits to meet a man she has never seen\, expressing jumbled thoughts and emotions of hope\, uncertainty and self-doubt. \n
URL:https://www.hattiesburgms.com/event/festivalmusic-forrest-county-presents-summer-in-the-south-featuring-betsy-uschkrat-soprano-and-zhaolei-xie-piano-in-partnership-with-coca-cola-payne-company-verb-architecture/
LOCATION:Kelley Hall at University Baptist Church\, 3200 W Arlington Loop\, Hattiesburg\, MS\, 39401\, United States
CATEGORIES:Arts,Concert,Festival
ATTACH;FMTTYPE=image/jpeg:https://www.hattiesburgms.com/wp-content/uploads/SUMMER-IN-THE-SOUTH.jpg
ORGANIZER;CN="Festival%20South":MAILTO:mike.lopinto@usm.edu
END:VEVENT
BEGIN:VEVENT
DTSTART;TZID=America/Chicago:20240621T190000
DTEND;TZID=America/Chicago:20240621T190000
DTSTAMP:20260422T094848
CREATED:20240605T194823Z
LAST-MODIFIED:20240605T194823Z
UID:31241-1718996400-1718996400@www.hattiesburgms.com
SUMMARY:FESTIVALFRINGE – Downtown Summer Tunes featuring Deano & Jo
DESCRIPTION:Playing a slightly skewed take on classic honky tonk and bluegrass\, Deano & Jo perform both originals and lesser-known covers with sounds of the 50s and 60s. Dean is also in Chicago’s Waco Brothers. Jo is the singer in Austin’s notorious Meat Purveyors. Bring yourself\, your friends\, some lawn chairs and a cooler full of cold ones for a night under the stars with great music. \n
URL:https://www.hattiesburgms.com/event/festivalfringe-downtown-summer-tunes-featuring-deano-jo/
LOCATION:Town Square Park\, Hattiesburg\, MS\, 39402\, United States
CATEGORIES:Arts,Concert,Festival
ATTACH;FMTTYPE=image/jpeg:https://www.hattiesburgms.com/wp-content/uploads/DOWNTOWN-SUMMER-TUNES-DEANO-AND-JO.jpg
ORGANIZER;CN="Festival%20South":MAILTO:mike.lopinto@usm.edu
END:VEVENT
END:VCALENDAR