BEGIN:VCALENDAR
VERSION:2.0
PRODID:-//City of Hattiesburg - ECPv5.0.0//NONSGML v1.0//EN
CALSCALE:GREGORIAN
METHOD:PUBLISH
X-WR-CALNAME:City of Hattiesburg
X-ORIGINAL-URL:https://www.hattiesburgms.com
X-WR-CALDESC:Events for City of Hattiesburg
BEGIN:VTIMEZONE
TZID:America/Chicago
BEGIN:DAYLIGHT
TZOFFSETFROM:-0600
TZOFFSETTO:-0500
TZNAME:CDT
DTSTART:20240310T080000
END:DAYLIGHT
BEGIN:STANDARD
TZOFFSETFROM:-0500
TZOFFSETTO:-0600
TZNAME:CST
DTSTART:20241103T070000
END:STANDARD
END:VTIMEZONE
BEGIN:VEVENT
DTSTART;TZID=America/Chicago:20240615T100000
DTEND;TZID=America/Chicago:20240615T130000
DTSTAMP:20260421T232950
CREATED:20240605T194748Z
LAST-MODIFIED:20240605T194748Z
UID:31205-1718445600-1718456400@www.hattiesburgms.com
SUMMARY:ARTIE EVENT FOR FAMILIES - Artie’s Columbia Adventure
DESCRIPTION:Presented with support from The City of Columbia\, Columbia Family Dental\, Dungan Engineering\, Citizens Bank of Columbia. \nThis free family event offers interactive experiences through hands-on art\, dance\, music\, and much more! As a special treat\, storytime at 10:30 a.m. and 12 noon will also feature a meet-and-greet with Artie. Come enjoy food\, fun\, and family at this celebration of the arts in Columbia! \n
URL:https://www.hattiesburgms.com/event/artie-event-for-families-arties-columbia-adventure/
LOCATION:Columbia Army National Gard Armory\, 1337 HWy 98 E\, Columbia\, MS\, 39429\, United States
ATTACH;FMTTYPE=image/png:https://www.hattiesburgms.com/wp-content/uploads/ARTIES-COLUMBIA-ADVENTURE.png
ORGANIZER;CN="Festival%20South":MAILTO:mike.lopinto@usm.edu
END:VEVENT
BEGIN:VEVENT
DTSTART;TZID=America/Chicago:20240615T130000
DTEND;TZID=America/Chicago:20240615T150000
DTSTAMP:20260421T232950
CREATED:20240605T194748Z
LAST-MODIFIED:20240605T194748Z
UID:31208-1718456400-1718463600@www.hattiesburgms.com
SUMMARY:FESTIVALFRINGE - Hattiesburg Orchestral Academy  Featuring Dr. Jorge Gonzalez\, conductor
DESCRIPTION:Performing a variety of music for small ensembles and for string orchestra\, the program will also include international competition winners Rainel Joubert\, violin; Khari Joyner\, cello; and regional string students as soloists. Enjoy these budding musicians and support them in their quest to follow their passion for music. \n
URL:https://www.hattiesburgms.com/event/festivalfringe-hattiesburg-orchestral-academy-featuring-dr-jorge-gonzalez-conductor/
LOCATION:Thomas Fine Arts Auditorium Stage at William Carey University\, 710 William Carey Pkwy\, Hattiesburg\, MS\, 39401\, United States
ATTACH;FMTTYPE=image/png:https://www.hattiesburgms.com/wp-content/uploads/HATTIESBURG-ORCHESTRAL-ACADEMY.png
ORGANIZER;CN="Festival%20South":MAILTO:mike.lopinto@usm.edu
END:VEVENT
BEGIN:VEVENT
DTSTART;TZID=America/Chicago:20240615T130000
DTEND;TZID=America/Chicago:20240615T150000
DTSTAMP:20260421T232950
CREATED:20240605T194748Z
LAST-MODIFIED:20240605T194748Z
UID:31213-1718456400-1718463600@www.hattiesburgms.com
SUMMARY:FESTIVALART – Ebb & Flow – A Singing River Trio Exhibition Reception
DESCRIPTION:Presented with support from Catherine and Chad Edmondson and David Ott \n\nThis show features photographs and paintings created by Traci Stover\, Betty Press\, and Andrea Kostyal\, the owners of the Singing River Arts Studio in Hattiesburg.The exhibition represents three Artists with three different perspectives of art and medium\, who share harmonious connection of place.\n
URL:https://www.hattiesburgms.com/event/festivalart-ebb-flow-a-singing-river-trio-exhibition-reception/
LOCATION:Singing River Art Studio\, 100 W 4th Street\, Suite 20\, Hattiesburg\, MS\, 39401\, United States
ATTACH;FMTTYPE=image/jpeg:https://www.hattiesburgms.com/wp-content/uploads/EBB-FLOW.jpg
ORGANIZER;CN="Festival%20South":MAILTO:mike.lopinto@usm.edu
END:VEVENT
BEGIN:VEVENT
DTSTART;TZID=America/Chicago:20240615T193000
DTEND;TZID=America/Chicago:20240615T213000
DTSTAMP:20260421T232950
CREATED:20240605T194748Z
LAST-MODIFIED:20240605T194748Z
UID:31215-1718479800-1718487000@www.hattiesburgms.com
SUMMARY:FESTIVALMUSIC – Misterwives
DESCRIPTION:In partnership with The City of Hattiesburg\, The Saenger Theater\, FestivalSouth \n  \n\nNew York-based indie-pop band MisterWives brings their sunny\, synth-heavy grooves and endlessly entertaining live show to FestivalSouth. Their sounds have made them a staple of the indie-rock scene for more than a decade. Consisting of lead singer Mandy Lee\, percussionist Etienne Bowler\, bassist William Hehir\, guitarist Marc Campbell and saxophonist Mike Murphy\, the band exploded on social media gaining  immense support from fans and landing them on streaming service playlists. Now\, our audiences get to experience them live!\n\n
URL:https://www.hattiesburgms.com/event/festivalmusic-misterwives/
LOCATION:Hattiesburg Saenger Theater\, 201 Forrest Street\, Hattiesburg\, MS\, 39403\, United States
ATTACH;FMTTYPE=image/png:https://www.hattiesburgms.com/wp-content/uploads/MISTERWIVES.png
ORGANIZER;CN="Festival%20South":MAILTO:mike.lopinto@usm.edu
END:VEVENT
END:VCALENDAR