BEGIN:VCALENDAR
VERSION:2.0
PRODID:-//City of Hattiesburg - ECPv5.0.0//NONSGML v1.0//EN
CALSCALE:GREGORIAN
METHOD:PUBLISH
X-WR-CALNAME:City of Hattiesburg
X-ORIGINAL-URL:https://www.hattiesburgms.com
X-WR-CALDESC:Events for City of Hattiesburg
BEGIN:VTIMEZONE
TZID:America/Chicago
BEGIN:DAYLIGHT
TZOFFSETFROM:-0600
TZOFFSETTO:-0500
TZNAME:CDT
DTSTART:20240310T080000
END:DAYLIGHT
BEGIN:STANDARD
TZOFFSETFROM:-0500
TZOFFSETTO:-0600
TZNAME:CST
DTSTART:20241103T070000
END:STANDARD
END:VTIMEZONE
BEGIN:VEVENT
DTSTART;TZID=America/Chicago:20240614T090000
DTEND;TZID=America/Chicago:20240614T170000
DTSTAMP:20260421T215719
CREATED:20240605T194748Z
LAST-MODIFIED:20240605T194748Z
UID:31199-1718355600-1718384400@www.hattiesburgms.com
SUMMARY:FESTIVALMUSIC - The Color of Soul featuring Latisha Hamilton Ernest and Demetric Cooley
DESCRIPTION:This morning musical wake up call features music of some of the greatest African American women\, including Aretha Franklin\, Betty Wright\, Chaka Khan\, Patti LaBelle\, Roberta Flack\, Nancy Wilson\, Whitney Houston and Rosetta Tharpe. \n
URL:https://www.hattiesburgms.com/event/festivalmusic-the-color-of-soul-featuring-latisha-hamilton-ernest-and-demetric-cooley/
LOCATION:Twin Forks Rising\, 601 E. Pine St.\, Hattiesburg\, MS\, 39401\, United States
CATEGORIES:Arts,Concert,Festival
ATTACH;FMTTYPE=image/png:https://www.hattiesburgms.com/wp-content/uploads/THE-COLOR-OF-SOUL.png
ORGANIZER;CN="Festival%20South":MAILTO:mike.lopinto@usm.edu
END:VEVENT
BEGIN:VEVENT
DTSTART;TZID=America/Chicago:20240614T170000
DTEND;TZID=America/Chicago:20240614T190000
DTSTAMP:20260421T215719
CREATED:20240605T194748Z
LAST-MODIFIED:20240605T194748Z
UID:31201-1718384400-1718391600@www.hattiesburgms.com
SUMMARY:FESTIVALART - FESTIVALSPEAKS - Heritage Unearthed: An Artistic Exhibition of Southeastern Native American Culture
DESCRIPTION:Immerse yourself in this special exhibit of artifacts and cultural objects including baskets\, weapons\, stickball sticks\, pottery\, and clothing from the Houma\, Mississippi Choctaw\, Coushatta\, Poarch Creek\, and Tunica Biloxi tribes. This special FestivalSpeaks event features Dr. Tammy Greer\, Director of the Center for American Indian Research at Southern Miss\, who will also prepare traditional  muscadine dumplings for attendees. \n
URL:https://www.hattiesburgms.com/event/festivalart-festivalspeaks-heritage-unearthed-an-artistic-exhibition-of-southeastern-native-american-culture/
LOCATION:Library of Hattiesburg\, Petal\, and Forrest County\, 329 Hardy St.\, Hattiesburg\, MS\, 39401\, United States
CATEGORIES:Arts,Festival
ATTACH;FMTTYPE=image/jpeg:https://www.hattiesburgms.com/wp-content/uploads/HERITAGE-UNEARTHED.jpg
ORGANIZER;CN="Festival%20South":MAILTO:mike.lopinto@usm.edu
END:VEVENT
BEGIN:VEVENT
DTSTART;TZID=America/Chicago:20240614T193000
DTEND;TZID=America/Chicago:20240614T193000
DTSTAMP:20260421T215719
CREATED:20240605T194748Z
LAST-MODIFIED:20240605T194748Z
UID:31203-1718393400-1718393400@www.hattiesburgms.com
SUMMARY:FESTIVALMUSIC - Forrest County presents bee(R)thoven: untapped in partnership with Coca-Cola\, Payne Company\, VERB Architecture with support from the Southern Miss School of Music
DESCRIPTION:Experience a masterful evening of wind and percussion chamber music like never before. Delight in the timeless melodies of Beethoven reimagined by a dynamic saxophone quartet. Immerse yourself in a newly composed piece infused with flair and the flavor of Southern Prohibition. Lastly\, feel the pulsating rhythms of Michael Torke’s Overnight Mail. Each musical masterpiece is expertly paired with a SoPro brew\, including this year’s FestivalSouth seltzer Allegro. Don’t miss out on the buzz that is sure to happen at the sequel to last festival’s most popular concert event. \n
URL:https://www.hattiesburgms.com/event/festivalmusic-forrest-county-presents-beerthoven-untapped-in-partnership-with-coca-cola-payne-company-verb-architecture-with-support-from-the-southern-miss-school-of-music/
LOCATION:Hattiesburg Community Art Center\, 825 Main Street\, Hattiesburg\, MS\, 39401\, United States
CATEGORIES:Arts,Concert,Festival
ATTACH;FMTTYPE=image/png:https://www.hattiesburgms.com/wp-content/uploads/BEERTHOVEN-1.png
ORGANIZER;CN="Festival%20South":MAILTO:mike.lopinto@usm.edu
END:VEVENT
END:VCALENDAR