BEGIN:VCALENDAR
VERSION:2.0
PRODID:-//City of Hattiesburg - ECPv5.0.0//NONSGML v1.0//EN
CALSCALE:GREGORIAN
METHOD:PUBLISH
X-WR-CALNAME:City of Hattiesburg
X-ORIGINAL-URL:https://www.hattiesburgms.com
X-WR-CALDESC:Events for City of Hattiesburg
BEGIN:VTIMEZONE
TZID:America/Chicago
BEGIN:DAYLIGHT
TZOFFSETFROM:-0600
TZOFFSETTO:-0500
TZNAME:CDT
DTSTART:20240310T080000
END:DAYLIGHT
BEGIN:STANDARD
TZOFFSETFROM:-0500
TZOFFSETTO:-0600
TZNAME:CST
DTSTART:20241103T070000
END:STANDARD
END:VTIMEZONE
BEGIN:VEVENT
DTSTART;TZID=America/Chicago:20240613T193000
DTEND;TZID=America/Chicago:20240613T193000
DTSTAMP:20260421T203211
CREATED:20240605T194748Z
LAST-MODIFIED:20240605T194748Z
UID:31197-1718307000-1718307000@www.hattiesburgms.com
SUMMARY:FESTIVALMUSIC – Forrest County presents Fascinating Rhythm featuring Sam & Jennifer Bruton and the FestivalJazz Players in partnership with Coca-Cola\, Payne Company\, VERB Architecture
DESCRIPTION:Join us for an unforgettable evening of musical enchantment as we celebrate the timeless genius of George Gershwin. Be transported to the dazzling heyday of New York’s theater scene with the lush harmonies and jazzy rhythms that defined an era. Featuring an all-star band and incredible vocals\, this is a wonderful evening out on the town! \n
URL:https://www.hattiesburgms.com/event/festivalmusic-forrest-county-presents-fascinating-rhythm-featuring-sam-jennifer-bruton-and-the-festivaljazz-players-in-partnership-with-coca-cola-payne-company-verb-architecture/
LOCATION:Hattiesburg Community Art Center\, 825 Main Street\, Hattiesburg\, MS\, 39401\, United States
CATEGORIES:Arts,Concert,Festival
ATTACH;FMTTYPE=image/jpeg:https://www.hattiesburgms.com/wp-content/uploads/FASCINATING-RHYTHM.jpg
ORGANIZER;CN="Festival%20South":MAILTO:mike.lopinto@usm.edu
END:VEVENT
END:VCALENDAR