BEGIN:VCALENDAR
VERSION:2.0
PRODID:-//City of Hattiesburg - ECPv5.0.0//NONSGML v1.0//EN
CALSCALE:GREGORIAN
METHOD:PUBLISH
X-WR-CALNAME:City of Hattiesburg
X-ORIGINAL-URL:https://www.hattiesburgms.com
X-WR-CALDESC:Events for City of Hattiesburg
BEGIN:VTIMEZONE
TZID:America/Chicago
BEGIN:DAYLIGHT
TZOFFSETFROM:-0600
TZOFFSETTO:-0500
TZNAME:CDT
DTSTART:20240310T080000
END:DAYLIGHT
BEGIN:STANDARD
TZOFFSETFROM:-0500
TZOFFSETTO:-0600
TZNAME:CST
DTSTART:20241103T070000
END:STANDARD
END:VTIMEZONE
BEGIN:VEVENT
DTSTART;TZID=America/Chicago:20240610T080000
DTEND;TZID=America/Chicago:20240612T170000
DTSTAMP:20260421T172521
CREATED:20240403T200232Z
LAST-MODIFIED:20240403T200232Z
UID:30859-1718006400-1718211600@www.hattiesburgms.com
SUMMARY:2nd International Summit on Biopolymers and Polymer Science
DESCRIPTION:Spectrum Conferences takes the pleasure to invite all the participants from all over the world to attend the 2nd International Summit on Biopolymers and Polymer Science (ISBPS) which will be held in Porto\, Portugal during June10-12\, 2024. Which includes Plenary\, Keynote presentations\, Oral talks\, Poster presentations\, and Exhibitions. The conference brings together world-class speakers and young researchers working in the fields of Biopolymers and Polymer Science looking for opportunities for interdisciplinary dialogue and problem-solving that can only be provided by a venue of this kind. \n
URL:https://www.hattiesburgms.com/event/2nd-international-summit-on-biopolymers-and-polymer-science/
LOCATION:India
END:VEVENT
BEGIN:VEVENT
DTSTART;TZID=America/Chicago:20240611T160000
DTEND;TZID=America/Chicago:20240611T190000
DTSTAMP:20260421T172521
CREATED:20240605T194747Z
LAST-MODIFIED:20240605T194747Z
UID:31190-1718121600-1718132400@www.hattiesburgms.com
SUMMARY:Creative Convergence – A Photo Transfer Workshop with Andrea Kostyal
DESCRIPTION:Artists of ALL levels have the opportunity to create a fun\, mixed-media painting using photo transfer technique on a 12” x 12” canvas in this hands-on workshop. Selecting a photo from your own smartphone\, bring home a personal work of art. Please note\, this 3-hour workshop is limited to 10+ people\, requiring advance registration. Age 14+ only. All supplies are included. \n
URL:https://www.hattiesburgms.com/event/creative-convergence-a-photo-transfer-workshop-with-andrea-kostyal/
LOCATION:Singing River Art Studio\, 100 W 4th Street\, Suite 20\, Hattiesburg\, MS\, 39401\, United States
CATEGORIES:Arts,Festival
ATTACH;FMTTYPE=image/jpeg:https://www.hattiesburgms.com/wp-content/uploads/CREATIVE-CONVERGENCE.jpg
ORGANIZER;CN="Festival%20South":MAILTO:mike.lopinto@usm.edu
END:VEVENT
END:VCALENDAR