BEGIN:VCALENDAR
VERSION:2.0
PRODID:-//City of Hattiesburg - ECPv5.0.0//NONSGML v1.0//EN
CALSCALE:GREGORIAN
METHOD:PUBLISH
X-WR-CALNAME:City of Hattiesburg
X-ORIGINAL-URL:https://www.hattiesburgms.com
X-WR-CALDESC:Events for City of Hattiesburg
BEGIN:VTIMEZONE
TZID:America/Chicago
BEGIN:DAYLIGHT
TZOFFSETFROM:-0600
TZOFFSETTO:-0500
TZNAME:CDT
DTSTART:20240310T080000
END:DAYLIGHT
BEGIN:STANDARD
TZOFFSETFROM:-0500
TZOFFSETTO:-0600
TZNAME:CST
DTSTART:20241103T070000
END:STANDARD
END:VTIMEZONE
BEGIN:VEVENT
DTSTART;TZID=America/Chicago:20240607T090000
DTEND;TZID=America/Chicago:20240607T130000
DTSTAMP:20260421T110820
CREATED:20240605T194551Z
LAST-MODIFIED:20240605T194551Z
UID:31126-1717750800-1717765200@www.hattiesburgms.com
SUMMARY:FESTIVALMUSIC – Música de la mañana Featuring guitarist David Bryan
DESCRIPTION:Centuries of guitar music find their roots in Spanish traditions. Enjoy this special morning in a new location that promises a special selection of unique coffees\, treats\, and more while enjoying  wonderful music. \n
URL:https://www.hattiesburgms.com/event/festivalmusic-musica-de-la-manana-featuring-guitarist-david-bryan/
LOCATION:MS\, United States
ATTACH;FMTTYPE=image/png:https://www.hattiesburgms.com/wp-content/uploads/MUSICA-DE-LA-MANANA.png
ORGANIZER;CN="Festival%20South":MAILTO:mike.lopinto@usm.edu
END:VEVENT
BEGIN:VEVENT
DTSTART;TZID=America/Chicago:20240607T090000
DTEND;TZID=America/Chicago:20240607T130000
DTSTAMP:20260421T110820
CREATED:20240605T194637Z
LAST-MODIFIED:20240605T194637Z
UID:31129-1717750800-1717765200@www.hattiesburgms.com
SUMMARY:FESTIVALMUSIC – Música de la mañana Featuring guitarist David Bryan
DESCRIPTION:Centuries of guitar music find their roots in Spanish traditions. Enjoy this special morning in a new location that promises a special selection of unique coffees\, treats\, and more while enjoying  wonderful music. \n
URL:https://www.hattiesburgms.com/event/festivalmusic-musica-de-la-manana-featuring-guitarist-david-bryan-2/
LOCATION:MS\, United States
ORGANIZER;CN="Festival%20South":MAILTO:mike.lopinto@usm.edu
END:VEVENT
BEGIN:VEVENT
DTSTART;TZID=America/Chicago:20240607T123000
DTEND;TZID=America/Chicago:20240607T170000
DTSTAMP:20260421T110820
CREATED:20240605T194637Z
LAST-MODIFIED:20240605T194637Z
UID:31131-1717763400-1717779600@www.hattiesburgms.com
SUMMARY:FESTIVALFRINGE - Landry\, Lewis\, and Germany Architects\, P.A. presents FestivalSouth World Championship Golf Classic
DESCRIPTION:In partnership Lamar County\, Neel-Schaffer Engineering\, Sports Contractors Unlimited\, Service Master Clean\,Clear Point Engineering. \n  \nRegistration required at festivalsouth.org \n  \nJoin FestivalSouth for its fourth annual golf tournament and support our Artie Events for Families and the Mississippi Chapter of the Juvenile Diabetes Research Foundation\, providing for our youngest cultural lovers in the Pine Belt.  \n  \nTeams\, including Canebrake Country Club\, Hattiesburg Country Club\, Timberton Golf Club\, Bankers\, and Community Divisions\, will compete for Division and the FestivalSouth World Championship. The format will be a 2- person scramble utilizing handicaps to match competing teams. Scores from the top 4 teams from each Division will be used to crown the 2024 Festival South Golf Classic World Champion. \n
URL:https://www.hattiesburgms.com/event/festivalfringe-landry-lewis-and-germany-architects-p-a-presents-festivalsouth-world-championship-golf-classic/
LOCATION:canebrake country club\, 1 cane drive\, Hattiesburg\, MS\, 39402\, United States
ATTACH;FMTTYPE=image/jpeg:https://www.hattiesburgms.com/wp-content/uploads/FS-GOLF-TOURNAMENT.jpg
ORGANIZER;CN="Festival%20South":MAILTO:mike.lopinto@usm.edu
END:VEVENT
BEGIN:VEVENT
DTSTART;TZID=America/Chicago:20240607T150000
DTEND;TZID=America/Chicago:20240607T163000
DTSTAMP:20260421T110820
CREATED:20240605T194637Z
LAST-MODIFIED:20240605T194637Z
UID:31141-1717772400-1717777800@www.hattiesburgms.com
SUMMARY:FESTIVALMUSIC – Forrest County presents Bach to Bizet: Transcriptions for the King of Instruments Featuring Derrick Meador\, organ
DESCRIPTION:Enjoy a delightful concert of organ transcriptions\, including Sibelius’ Finlandia\, Bach’s version of Vivaldi’s Concerto for two violins\,  Bizet’s Carmen Suite  and other favorites. This event is made possible by generous support from the American Guild of Organists and Dr. Paul Andersen. \n
URL:https://www.hattiesburgms.com/event/festivalmusic-forrest-county-presents-bach-to-bizet-transcriptions-for-the-king-of-instruments-featuring-derrick-meador-organ/
LOCATION:Westminster Presbyterian Church\, 115 N 25th Avenue\, Hattiesburg\, MS\, United States
ATTACH;FMTTYPE=image/png:https://www.hattiesburgms.com/wp-content/uploads/BACH-TO-BIZET-copy.png
ORGANIZER;CN="Festival%20South":MAILTO:mike.lopinto@usm.edu
END:VEVENT
BEGIN:VEVENT
DTSTART;TZID=America/Chicago:20240607T170000
DTEND;TZID=America/Chicago:20240607T190000
DTSTAMP:20260421T110820
CREATED:20240605T194637Z
LAST-MODIFIED:20240605T194637Z
UID:31143-1717779600-1717786800@www.hattiesburgms.com
SUMMARY:FESTIVALART / FESTIVALSPEAKS - Colorful Conversations with Adam Trest
DESCRIPTION:Meet our FestivalSouth 2024 Featured Artist\, Adam Trest who is also the illustrator of The Lantern House by Erin Napier. Enjoy casual conversations and ask art-related questions as he talks about his life as a working artist in Mississippi \n
URL:https://www.hattiesburgms.com/event/festivalart-festivalspeaks-colorful-conversations-with-adam-trest/
LOCATION:The Author Shoppe\, 140 E Front St\, Hattiesburg\, MS\, 39401\, United States
ATTACH;FMTTYPE=image/jpeg:https://www.hattiesburgms.com/wp-content/uploads/COLORFUL-CONVERSATIONS.jpg
ORGANIZER;CN="Festival%20South":MAILTO:mike.lopinto@usm.edu
END:VEVENT
BEGIN:VEVENT
DTSTART;TZID=America/Chicago:20240607T190000
DTEND;TZID=America/Chicago:20240607T210000
DTSTAMP:20260421T110820
CREATED:20240605T194637Z
LAST-MODIFIED:20240605T194637Z
UID:31146-1717786800-1717794000@www.hattiesburgms.com
SUMMARY:FESTIVALFRINGE - Downtown Summer Tunes: Southern Nights
DESCRIPTION:FestivalSouth takes over Downtown Summer Tunes\, to present a night of non-stop country\, featuring some of the area’s most talented musicians and hosted by our own country Belle\, Lauren Cate Leake. Bring yourself\, your friends\, some lawn chairs and a cooler full of cold ones as you tap your heels and two step the night away with some of the greatest tunes the South has to offer. \n
URL:https://www.hattiesburgms.com/event/festivalfringe-downtown-summer-tunes-southern-nights/
LOCATION:Town Square Park\, Hattiesburg\, MS\, 39402\, United States
ATTACH;FMTTYPE=image/png:https://www.hattiesburgms.com/wp-content/uploads/DOWTOWN-SUMMER-TUNES-SOUTHERN-NIGHTS.png
ORGANIZER;CN="Festival%20South":MAILTO:mike.lopinto@usm.edu
END:VEVENT
END:VCALENDAR