BEGIN:VCALENDAR
VERSION:2.0
PRODID:-//City of Hattiesburg - ECPv5.0.0//NONSGML v1.0//EN
CALSCALE:GREGORIAN
METHOD:PUBLISH
X-WR-CALNAME:City of Hattiesburg
X-ORIGINAL-URL:https://www.hattiesburgms.com
X-WR-CALDESC:Events for City of Hattiesburg
BEGIN:VTIMEZONE
TZID:America/Chicago
BEGIN:DAYLIGHT
TZOFFSETFROM:-0600
TZOFFSETTO:-0500
TZNAME:CDT
DTSTART:20240310T080000
END:DAYLIGHT
BEGIN:STANDARD
TZOFFSETFROM:-0500
TZOFFSETTO:-0600
TZNAME:CST
DTSTART:20241103T070000
END:STANDARD
END:VTIMEZONE
BEGIN:VEVENT
DTSTART;TZID=America/Chicago:20240606T090000
DTEND;TZID=America/Chicago:20240606T170000
DTSTAMP:20260421T124513
CREATED:20240605T194525Z
LAST-MODIFIED:20240605T194525Z
UID:31123-1717664400-1717693200@www.hattiesburgms.com
SUMMARY:FESTIVALMUSIC – Saxy Music Featuring the Southern Miss Saxophone Quartet
DESCRIPTION:Returning to brighten your morning\, the Southern Miss Saxophone Quartet presents an entertaining program of popular favorites that’s sure to get your day off on a good note! Complimentary coffee and pastries provided by OLLI. If you have a specialty coffee you love\, bring it with you! \n
URL:https://www.hattiesburgms.com/event/festivalmusic-saxy-music-featuring-the-southern-miss-saxophone-quartet/
LOCATION:Osher Lifelong Learning Institute\, 3601 Pearl St.\, Hattiesburg\, MS\, 39406
ATTACH;FMTTYPE=image/png:https://www.hattiesburgms.com/wp-content/uploads/SAXY-MUSIC.png
ORGANIZER;CN="Festival%20South":MAILTO:mike.lopinto@usm.edu
END:VEVENT
BEGIN:VEVENT
DTSTART;TZID=America/Chicago:20240606T090000
DTEND;TZID=America/Chicago:20240606T170000
DTSTAMP:20260421T124513
CREATED:20240605T194550Z
LAST-MODIFIED:20240605T194550Z
UID:31125-1717664400-1717693200@www.hattiesburgms.com
SUMMARY:FESTIVALMUSIC – Saxy Music Featuring the Southern Miss Saxophone Quartet
DESCRIPTION:Returning to brighten your morning\, the Southern Miss Saxophone Quartet presents an entertaining program of popular favorites that’s sure to get your day off on a good note! Complimentary coffee and pastries provided by OLLI. If you have a specialty coffee you love\, bring it with you! \n
URL:https://www.hattiesburgms.com/event/festivalmusic-saxy-music-featuring-the-southern-miss-saxophone-quartet-2/
LOCATION:Osher Lifelong Learning Institute\, 3601 Pearl St.\, Hattiesburg\, MS\, 39406
ORGANIZER;CN="Festival%20South":MAILTO:mike.lopinto@usm.edu
END:VEVENT
BEGIN:VEVENT
DTSTART;TZID=America/Chicago:20240606T193000
DTEND;TZID=America/Chicago:20240606T193000
DTSTAMP:20260421T124513
CREATED:20240605T194454Z
LAST-MODIFIED:20240605T194454Z
UID:31047-1717702200-1717702200@www.hattiesburgms.com
SUMMARY:FESTIVALDANCE - Crowning Glory: A Night at the Ballet featuring Alexei Orohovsky - 2023 International Ballet Competition USA Gold Medalist\, and the companies of Ballet Mississippi and South Mississippi Ballet
DESCRIPTION:FestivalSouth welcomes our hometown gold medalist Alexei Orohovsky\, joined by the companies of Ballet Mississippi and South Mississippi Ballet in an extraordinary evening of dance. Presented in partnership with Arts Institute of Mississippi and Clyde Bryant State Farm\, be a part of this homecoming evening as they perform the “Grand Pas Classique” from Paquita and two new and exciting contemporary works for the stage. \n
URL:https://www.hattiesburgms.com/event/festivaldance-crowning-glory-a-night-at-the-ballet-featuring-alexei-orohovsky-2023-international-ballet-competition-usa-gold-medalist-and-the-companies-of-ballet-mississippi-and-south-mississipp/
LOCATION:Mannoni Performing Arts Center\, 2701 Hardy Street\, Hattiesburg\, MS\, 39402\, United States
CATEGORIES:Arts,Events,Festival
ATTACH;FMTTYPE=image/png:https://www.hattiesburgms.com/wp-content/uploads/CROWNING-GLORY.png
ORGANIZER;CN="Festival%20South":MAILTO:mike.lopinto@usm.edu
END:VEVENT
BEGIN:VEVENT
DTSTART;TZID=America/Chicago:20240606T193000
DTEND;TZID=America/Chicago:20240606T193000
DTSTAMP:20260421T124513
CREATED:20240605T194454Z
LAST-MODIFIED:20240605T194454Z
UID:31049-1717702200-1717702200@www.hattiesburgms.com
SUMMARY:FESTIVALDANCE – Crowning Glory: A Night at the Ballet featuring Alexei Orohovsky – 2023 International Ballet Competition USA Gold Medalist\, and the companies of Ballet Mississippi and South Mississippi Ballet
DESCRIPTION:FestivalSouth welcomes our hometown gold medalist Alexei Orohovsky\, joined by the companies of Ballet Mississippi and South Mississippi Ballet in an extraordinary evening of dance. Presented in partnership with Arts Institute of Mississippi and Clyde Bryant State Farm\, be a part of this homecoming evening as they perform the “Grand Pas Classique” from Paquita and two new and exciting contemporary works for the stage. \n
URL:https://www.hattiesburgms.com/event/festivaldance-crowning-glory-a-night-at-the-ballet-featuring-alexei-orohovsky-2023-international-ballet-competition-usa-gold-medalist-and-the-companies-of-ballet-mississippi-and/
LOCATION:Mannoni Performing Arts Center\, 2701 Hardy Street\, Hattiesburg\, MS\, 39402\, United States
CATEGORIES:Arts,Events,Festival
ORGANIZER;CN="Festival%20South":MAILTO:mike.lopinto@usm.edu
END:VEVENT
END:VCALENDAR