BEGIN:VCALENDAR
VERSION:2.0
PRODID:-//City of Hattiesburg - ECPv5.0.0//NONSGML v1.0//EN
CALSCALE:GREGORIAN
METHOD:PUBLISH
X-WR-CALNAME:City of Hattiesburg
X-ORIGINAL-URL:https://www.hattiesburgms.com
X-WR-CALDESC:Events for City of Hattiesburg
BEGIN:VTIMEZONE
TZID:America/Chicago
BEGIN:DAYLIGHT
TZOFFSETFROM:-0600
TZOFFSETTO:-0500
TZNAME:CDT
DTSTART:20240310T080000
END:DAYLIGHT
BEGIN:STANDARD
TZOFFSETFROM:-0500
TZOFFSETTO:-0600
TZNAME:CST
DTSTART:20241103T070000
END:STANDARD
END:VTIMEZONE
BEGIN:VEVENT
DTSTART;TZID=America/Chicago:20240605T103000
DTEND;TZID=America/Chicago:20240605T113000
DTSTAMP:20260421T142204
CREATED:20240605T194524Z
LAST-MODIFIED:20240605T194524Z
UID:31121-1717583400-1717587000@www.hattiesburgms.com
SUMMARY:ARTIE EVENT FOR FAMILIES - Mississippi Made & More presents Artie’s Storytelling Adventure in partnership with Corner Market\, Lamar County with support from Landry\, Lewis\, and Germany Architects\, P.A.
DESCRIPTION:Create your own zine (a self-published booklet made from 1 or 2 pieces of paper) with FestivalSouth Featured Artist\, Adam Trest. During this interactive creative writing and art workshop\, Adam will share about the process of creating and publishing stories. \n
URL:https://www.hattiesburgms.com/event/artie-event-for-families-mississippi-made-more-presents-arties-storytelling-adventure-in-partnership-with-corner-market-lamar-county-with-support-from-landry-lewis-and-germany-arch/
LOCATION:University Baptist Church\, 3200 W Arlington Loop\, Hattiesburg\, MS\, 39401\, United States
CATEGORIES:Arts,Community Event,Festival
ATTACH;FMTTYPE=image/png:https://www.hattiesburgms.com/wp-content/uploads/ARTIE’S-STORYTELLING-ADVENTURE.png
ORGANIZER;CN="Festival%20South":MAILTO:mike.lopinto@usm.edu
END:VEVENT
END:VCALENDAR