BEGIN:VCALENDAR
VERSION:2.0
PRODID:-//City of Hattiesburg - ECPv5.0.0//NONSGML v1.0//EN
CALSCALE:GREGORIAN
METHOD:PUBLISH
X-WR-CALNAME:City of Hattiesburg
X-ORIGINAL-URL:https://www.hattiesburgms.com
X-WR-CALDESC:Events for City of Hattiesburg
BEGIN:VTIMEZONE
TZID:America/Chicago
BEGIN:DAYLIGHT
TZOFFSETFROM:-0600
TZOFFSETTO:-0500
TZNAME:CDT
DTSTART:20240310T080000
END:DAYLIGHT
BEGIN:STANDARD
TZOFFSETFROM:-0500
TZOFFSETTO:-0600
TZNAME:CST
DTSTART:20241103T070000
END:STANDARD
END:VTIMEZONE
BEGIN:VEVENT
DTSTART;TZID=America/Chicago:20240604T170000
DTEND;TZID=America/Chicago:20240604T190000
DTSTAMP:20260421T155552
CREATED:20240605T194550Z
LAST-MODIFIED:20240605T194550Z
UID:31118-1717520400-1717527600@www.hattiesburgms.com
SUMMARY:FESTIVALART – Miracles Workshop: Decorating Hearts\, Crosses\, and Hands presented by the Mississippi Latinx Art Association
DESCRIPTION:This workshop is a creative exploration that invites participants to delve into the rich tapestry of Mexican folk traditions. Participants will be working iconic symbols within Mexican culture\, decorating them using an array of charms traditionally regarded as “milagros” or miracles in Mexico. The process of adorning the wooden crosses\, hearts\, and hands with these charms becomes a personal and communal act of storytelling\, weaving together elements of faith\, culture\, and individual narratives. The workshop aims to foster a sense of community\, as participants share their stories and interpretations through the art they create\, offering both a glimpse into Mexican traditions and the opportunity to craft meaningful\, personalized artworks. \n
URL:https://www.hattiesburgms.com/event/festivalart-miracles-workshop-decorating-hearts-crosses-and-hands-presented-by-the-mississippi-latinx-art-association/
LOCATION:MS\, United States
CATEGORIES:Arts,Community Event,Festival
ATTACH;FMTTYPE=image/png:https://www.hattiesburgms.com/wp-content/uploads/MIRACLES-WORKSHOP.png
ORGANIZER;CN="Festival%20South":MAILTO:mike.lopinto@usm.edu
END:VEVENT
END:VCALENDAR