BEGIN:VCALENDAR
VERSION:2.0
PRODID:-//City of Hattiesburg - ECPv5.0.0//NONSGML v1.0//EN
CALSCALE:GREGORIAN
METHOD:PUBLISH
X-WR-CALNAME:City of Hattiesburg
X-ORIGINAL-URL:https://www.hattiesburgms.com
X-WR-CALDESC:Events for City of Hattiesburg
BEGIN:VTIMEZONE
TZID:America/Chicago
BEGIN:DAYLIGHT
TZOFFSETFROM:-0600
TZOFFSETTO:-0500
TZNAME:CDT
DTSTART:20240310T080000
END:DAYLIGHT
BEGIN:STANDARD
TZOFFSETFROM:-0500
TZOFFSETTO:-0600
TZNAME:CST
DTSTART:20241103T070000
END:STANDARD
END:VTIMEZONE
BEGIN:VEVENT
DTSTART;VALUE=DATE:20240501
DTEND;VALUE=DATE:20240525
DTSTAMP:20260422T122611
CREATED:20240605T194454Z
LAST-MODIFIED:20240605T194454Z
UID:31080-1714521600-1716595199@www.hattiesburgms.com
SUMMARY:FESTIVALFRINGE - FestivalSouth Best of the Pine Belt 2024 Nominations
DESCRIPTION:Nominate your favorite people\, places\, and things in the 13th annual Best of the Pine Belt Competition presented by Signature Magazine. \n
URL:https://www.hattiesburgms.com/event/festivalfringe-festivalsouth-best-of-the-pine-belt-2024-nominations/
CATEGORIES:Arts,Community Event,Festival
ORGANIZER;CN="Festival%20South":MAILTO:mike.lopinto@usm.edu
END:VEVENT
BEGIN:VEVENT
DTSTART;TZID=America/Chicago:20240516T090000
DTEND;TZID=America/Chicago:20240516T130000
DTSTAMP:20260422T122611
CREATED:20240605T194748Z
LAST-MODIFIED:20240605T194748Z
UID:31217-1715850000-1715864400@www.hattiesburgms.com
SUMMARY:2024 Hattiesburg Employability Job Fair
DESCRIPTION:The 2024 Hattiesburg Employability Job Fair will be held May 16\, 2024 from 9 am to 1 pm at the Hattiesburg Train Depot located at 308 Newman Street in Hattiesburg. Job seekers should be prepared for on-site interviews\, dress for success and bring plenty of resumes. To pre-register go to www.jobfairs.ms.gov and bring printed confirmation to the job fair. This event is a collaboration of the Mississippi Department of Employment Security and Mississippi Department of Rehabilitation Services. Admission is free and open to the public. \n
URL:https://www.hattiesburgms.com/event/2024-hattiesburg-employability-job-fair/
LOCATION:Hattiesburg Train Depot\, 308 Newman Street\, Hattiesburg\, MS\, 39401\, United States
CATEGORIES:Events
END:VEVENT
END:VCALENDAR