BEGIN:VCALENDAR
VERSION:2.0
PRODID:-//City of Hattiesburg - ECPv5.0.0//NONSGML v1.0//EN
CALSCALE:GREGORIAN
METHOD:PUBLISH
X-WR-CALNAME:City of Hattiesburg
X-ORIGINAL-URL:https://www.hattiesburgms.com
X-WR-CALDESC:Events for City of Hattiesburg
BEGIN:VTIMEZONE
TZID:America/Chicago
BEGIN:DAYLIGHT
TZOFFSETFROM:-0600
TZOFFSETTO:-0500
TZNAME:CDT
DTSTART:20240310T080000
END:DAYLIGHT
BEGIN:STANDARD
TZOFFSETFROM:-0500
TZOFFSETTO:-0600
TZNAME:CST
DTSTART:20241103T070000
END:STANDARD
END:VTIMEZONE
BEGIN:VEVENT
DTSTART;TZID=America/Chicago:20240429T143000
DTEND;TZID=America/Chicago:20240430T183000
DTSTAMP:20260423T145937
CREATED:20240403T200232Z
LAST-MODIFIED:20240403T200232Z
UID:30848-1714401000-1714501800@www.hattiesburgms.com
SUMMARY:Global Webinar on Ecological Engineering and Environmental Technology
DESCRIPTION:Join us for a groundbreaking global webinar on ecological engineering and environmental technology! Discover the latest innovations and sustainable solutions shaping our world. Engage with leading experts\, exchange ideas\, and explore cutting-edge research driving positive change for our planet. Don’t miss this opportunity to be part of the conversation shaping a greener future for all. Register now and be a part of this transformative event! For further details\, kindly go through the link : https://displaycia.com/scientific-events/global-webinar-ecological-engineering-and-environmental-technology/ \n  \nTop of Form \n  \n
URL:https://www.hattiesburgms.com/event/global-webinar-on-ecological-engineering-and-environmental-technology/
LOCATION:VIRTUAL\, Call 601-545-4675 to request virtual meeting login details.\, Hattiesburg\, MS\, 39401
CATEGORIES:Community Event,Events,Workshop or Seminar
ATTACH;FMTTYPE=image/jpeg:https://www.hattiesburgms.com/wp-content/uploads/Blue-and-Green-Illustrated-Environmental-Sustainability-Presentation.jpg
END:VEVENT
END:VCALENDAR