BEGIN:VCALENDAR
VERSION:2.0
PRODID:-//City of Hattiesburg - ECPv5.0.0//NONSGML v1.0//EN
CALSCALE:GREGORIAN
METHOD:PUBLISH
X-WR-CALNAME:City of Hattiesburg
X-ORIGINAL-URL:https://www.hattiesburgms.com
X-WR-CALDESC:Events for City of Hattiesburg
BEGIN:VTIMEZONE
TZID:America/Chicago
BEGIN:DAYLIGHT
TZOFFSETFROM:-0600
TZOFFSETTO:-0500
TZNAME:CDT
DTSTART:20240310T080000
END:DAYLIGHT
BEGIN:STANDARD
TZOFFSETFROM:-0500
TZOFFSETTO:-0600
TZNAME:CST
DTSTART:20241103T070000
END:STANDARD
END:VTIMEZONE
BEGIN:VEVENT
DTSTART;TZID=America/Chicago:20240319T090000
DTEND;TZID=America/Chicago:20240426T120000
DTSTAMP:20260425T131509
CREATED:20240403T200232Z
LAST-MODIFIED:20240403T200232Z
UID:30861-1710838800-1714132800@www.hattiesburgms.com
SUMMARY:Built for Greatness Day
DESCRIPTION:This is the 3rd Annual Built for Greatness Day at Hattiesburg High School.  The school invites the community\, parents\, alumni\, and policymakers to visit our campus to see the great things going on at our school.  The mayor in the past has opened the day attending and speaking at the opening ceremony. We hope he will join us this year. \n
URL:https://www.hattiesburgms.com/event/built-for-greatness-day-4/
LOCATION:Hattiesburg High School\, 301 Hutchinson Ave\, Hattiesburg\, MS\, 39401\, United States
CATEGORIES:Community Event
ATTACH;FMTTYPE=image/png:https://www.hattiesburgms.com/wp-content/uploads/revised-3-copy.png
ORGANIZER;CN="Hattiesburg%20High%20School":MAILTO:jennie.noonkester@hattiesburgpsd.com
END:VEVENT
BEGIN:VEVENT
DTSTART;TZID=America/Chicago:20240330T110000
DTEND;TZID=America/Chicago:20240330T140000
DTSTAMP:20260425T131509
CREATED:20240403T200231Z
LAST-MODIFIED:20240403T200231Z
UID:30833-1711796400-1711807200@www.hattiesburgms.com
SUMMARY:Easter At The Rock
DESCRIPTION:Rock of Ages Christian Fellowship Annual Easter Egg Hunt will be held on Saturday\, March 30\, 2024 from 11 AM to 2 PM. There will be activities and food for everyone. The event will climax on Sunday\, March 31st\, with our Resurrection Sunday Service at 11 AM. Rock of Ages is located at 314 Eastside Ave in Hattiesburg. \n
URL:https://www.hattiesburgms.com/event/easter-at-the-rock/
LOCATION:MS
CATEGORIES:Community Event
ATTACH;FMTTYPE=image/jpeg:https://www.hattiesburgms.com/wp-content/uploads/IMG_4736.jpeg
END:VEVENT
BEGIN:VEVENT
DTSTART;TZID=America/Chicago:20240330T110000
DTEND;TZID=America/Chicago:20240330T140000
DTSTAMP:20260425T131509
CREATED:20240403T200232Z
LAST-MODIFIED:20240403T200232Z
UID:30851-1711796400-1711807200@www.hattiesburgms.com
SUMMARY:Easter At The Rock
DESCRIPTION:Rock of Ages Christian Fellowship Center Annual Easter Egg Hunt will be held on Saturday\, March 30\, 2024 from 11 AM to 2 PM. There will be activities for everyone. The event will climax on Sunday\, March 31\, 2024\, with our Resurrection Service at 11 AM. Everyone is welcome to attend. \n
URL:https://www.hattiesburgms.com/event/easter-at-the-rock-2/
LOCATION:Rock of Ages Christian Fellowship Center\, 314 Eastside Ave\, Hattiesburg\, MS\, 39401\, United States
CATEGORIES:Festival
ATTACH;FMTTYPE=image/jpeg:https://www.hattiesburgms.com/wp-content/uploads/IMG_4736-1.jpeg
END:VEVENT
BEGIN:VEVENT
DTSTART;TZID=America/Chicago:20240330T190000
DTEND;TZID=America/Chicago:20240330T203000
DTSTAMP:20260425T131509
CREATED:20240403T200231Z
LAST-MODIFIED:20240403T200231Z
UID:30793-1711825200-1711830600@www.hattiesburgms.com
SUMMARY:Easter Celebration 2024
DESCRIPTION:Easter Musical & Drama Production \n
URL:https://www.hattiesburgms.com/event/easter-celebration-2024/2024-03-30/
LOCATION:19th Avenue Baptist Church\, 501 N. 19th Ave.\, Hattiesburg\, 39401\, United States
CATEGORIES:Community Event
END:VEVENT
END:VCALENDAR