BEGIN:VCALENDAR
VERSION:2.0
PRODID:-//City of Hattiesburg - ECPv5.0.0//NONSGML v1.0//EN
CALSCALE:GREGORIAN
METHOD:PUBLISH
X-WR-CALNAME:City of Hattiesburg
X-ORIGINAL-URL:https://www.hattiesburgms.com
X-WR-CALDESC:Events for City of Hattiesburg
BEGIN:VTIMEZONE
TZID:America/Chicago
BEGIN:DAYLIGHT
TZOFFSETFROM:-0600
TZOFFSETTO:-0500
TZNAME:CDT
DTSTART:20240310T080000
END:DAYLIGHT
BEGIN:STANDARD
TZOFFSETFROM:-0500
TZOFFSETTO:-0600
TZNAME:CST
DTSTART:20241103T070000
END:STANDARD
END:VTIMEZONE
BEGIN:VEVENT
DTSTART;TZID=America/Chicago:20240319T090000
DTEND;TZID=America/Chicago:20240426T120000
DTSTAMP:20260425T222416
CREATED:20240403T200232Z
LAST-MODIFIED:20240403T200232Z
UID:30861-1710838800-1714132800@www.hattiesburgms.com
SUMMARY:Built for Greatness Day
DESCRIPTION:This is the 3rd Annual Built for Greatness Day at Hattiesburg High School.  The school invites the community\, parents\, alumni\, and policymakers to visit our campus to see the great things going on at our school.  The mayor in the past has opened the day attending and speaking at the opening ceremony. We hope he will join us this year. \n
URL:https://www.hattiesburgms.com/event/built-for-greatness-day-4/
LOCATION:Hattiesburg High School\, 301 Hutchinson Ave\, Hattiesburg\, MS\, 39401\, United States
CATEGORIES:Community Event
ATTACH;FMTTYPE=image/png:https://www.hattiesburgms.com/wp-content/uploads/revised-3-copy.png
ORGANIZER;CN="Hattiesburg%20High%20School":MAILTO:jennie.noonkester@hattiesburgpsd.com
END:VEVENT
BEGIN:VEVENT
DTSTART;TZID=America/Chicago:20240322T170000
DTEND;TZID=America/Chicago:20240324T170000
DTSTAMP:20260425T222416
CREATED:20240403T200352Z
LAST-MODIFIED:20240403T200352Z
UID:30613-1711126800-1711299600@www.hattiesburgms.com
SUMMARY:47th Annual Crawfish Classic Tennis Tournament
DESCRIPTION:Come join us for a fun weekend of tennis and crawfish! Hosted by The Racquet Club of Hattiesburg\, registration price includes tennis matches\, t-shirt\, food\, and beer for the weekend\, including a fun crawfish boil on Saturday! \nThis tournament is one of the premier options in the state and draws players from around the region–winner of the Mississippi Tennis Association’s Adult Tournament of the Year in 2017 & 2022! \nRegister online: https://playtennis.usta.com/Competitions/racquetclubofhattiesburg/Tournaments/overview/E78C99A8-4178-4781-BD5C-C87CD257CA84 \n
URL:https://www.hattiesburgms.com/event/47th-annual-crawfish-classic-tennis-tournament/
LOCATION:Racquet Club of Hattiesburg\, 3800 Darby Road\, Hattiesburg\, MS\, 39402\, United States
CATEGORIES:Events
ATTACH;FMTTYPE=image/png:https://www.hattiesburgms.com/wp-content/uploads/Your-paragraph-text.png
ORGANIZER;CN="Racquet%20Club%20of%20Hattiesburg":MAILTO:theoffice@hattiesburgracquetclub.com
END:VEVENT
BEGIN:VEVENT
DTSTART;TZID=America/Chicago:20240324T150000
DTEND;TZID=America/Chicago:20240324T170000
DTSTAMP:20260425T222416
CREATED:20240403T200231Z
LAST-MODIFIED:20240403T200231Z
UID:30813-1711292400-1711299600@www.hattiesburgms.com
SUMMARY:The Divine Inspiration 44th Year Anniversary Celebration
DESCRIPTION:Founding Mother Lillie Rachel R Fairley \nThe Divine Inspiration would like to you to their 44th Anniversary Celebration. So\, help Us Celebrate Them. Doors open at 2:30pm & Service starts at 3:00pm \n
URL:https://www.hattiesburgms.com/event/the-divine-inspiration-44th-year-anniversary-celebration/
LOCATION:New Hope MB Church\, 400 Bouie St\, Hattiesburg\, MS\, 39401\, United States
CATEGORIES:Community Event
ATTACH;FMTTYPE=image/jpeg:https://www.hattiesburgms.com/wp-content/uploads/8F6321D3-0575-459B-A455-7C6B4AE7707C-1.jpg
ORGANIZER;CN="The%20Divines%20Inspirations":MAILTO:jacarrius.reed@gmail.com
END:VEVENT
BEGIN:VEVENT
DTSTART;TZID=America/Chicago:20240324T180000
DTEND;TZID=America/Chicago:20240324T203000
DTSTAMP:20260425T222416
CREATED:20240403T200353Z
LAST-MODIFIED:20240403T200353Z
UID:30748-1711303200-1711312200@www.hattiesburgms.com
SUMMARY:Ultimate Frisbee Spring League
DESCRIPTION:6:00 – 8:30 PM Sundays\nMarch 24 – May 12\, 2024\nTATUM PARK: HATTIESBURG\, MS \nTWO Games will be played to 11 points. 5-min half at 6pts or 30 minutes.\nONE 2-min timeout per team per game.\nFIRST GAME starts at 6:00. SECOND GAME starts at 7:15.\nAll you need is dark/light shirts and water but cleats help.\n\nDEADLINE TO SIGN UP IS MARCH 22\nFREE TO PLAY BUT MUST SIGN UP\nThis league is meant to be a fun entry point to organized ultimate for all skill levels. We will go by USA Ultimate rules\, which you should READ before playing: https://usaultimate.org/rules/10-simple-rules/ \n
URL:https://www.hattiesburgms.com/event/ultimate-frisbee-spring-league/2024-03-24/
LOCATION:Tatum Park\, Parkway Blvd.\, Hattiesburg\, MS\, 39403-1092\, United States
CATEGORIES:Parks and Recreation
ORGANIZER;CN="Jonathan%20King":MAILTO:jonathanking227@gmail.com
END:VEVENT
END:VCALENDAR