BEGIN:VCALENDAR
VERSION:2.0
PRODID:-//City of Hattiesburg - ECPv5.0.0//NONSGML v1.0//EN
CALSCALE:GREGORIAN
METHOD:PUBLISH
X-WR-CALNAME:City of Hattiesburg
X-ORIGINAL-URL:https://www.hattiesburgms.com
X-WR-CALDESC:Events for City of Hattiesburg
BEGIN:VTIMEZONE
TZID:America/Chicago
BEGIN:DAYLIGHT
TZOFFSETFROM:-0600
TZOFFSETTO:-0500
TZNAME:CDT
DTSTART:20230312T080000
END:DAYLIGHT
BEGIN:STANDARD
TZOFFSETFROM:-0500
TZOFFSETTO:-0600
TZNAME:CST
DTSTART:20231105T070000
END:STANDARD
END:VTIMEZONE
BEGIN:VEVENT
DTSTART;TZID=America/Chicago:20231028T173000
DTEND;TZID=America/Chicago:20231028T173000
DTSTAMP:20260424T003257
CREATED:20230714T135959Z
LAST-MODIFIED:20230913T182035Z
UID:29443-1698514200-1698514200@www.hattiesburgms.com
SUMMARY:Hattiesburg Halloween Parade
DESCRIPTION:Annual Hattiesburg Halloween Parade. \nRuns down Hardy St.  From Parkway Heights Church to Hutchinson Ave. \n
URL:https://www.hattiesburgms.com/event/hattiesburg-halloween-parade-2/
LOCATION:Hattiesburg\, MS\, United States
CATEGORIES:Parade
END:VEVENT
END:VCALENDAR