BEGIN:VCALENDAR
VERSION:2.0
PRODID:-//City of Hattiesburg - ECPv5.0.0//NONSGML v1.0//EN
CALSCALE:GREGORIAN
METHOD:PUBLISH
X-WR-CALNAME:City of Hattiesburg
X-ORIGINAL-URL:https://www.hattiesburgms.com
X-WR-CALDESC:Events for City of Hattiesburg
BEGIN:VTIMEZONE
TZID:America/Chicago
BEGIN:DAYLIGHT
TZOFFSETFROM:-0600
TZOFFSETTO:-0500
TZNAME:CDT
DTSTART:20220313T080000
END:DAYLIGHT
BEGIN:STANDARD
TZOFFSETFROM:-0500
TZOFFSETTO:-0600
TZNAME:CST
DTSTART:20221106T070000
END:STANDARD
END:VTIMEZONE
BEGIN:VEVENT
DTSTART;TZID=America/Chicago:20220507T130000
DTEND;TZID=America/Chicago:20220507T150000
DTSTAMP:20260421T082329
CREATED:20220428T164021Z
LAST-MODIFIED:20220428T164021Z
UID:27130-1651928400-1651935600@www.hattiesburgms.com
SUMMARY:Macrame Class with Leanna Kincannon (Queen of the Daisy)
DESCRIPTION:Learn to make macrame bird feeders or plant hangers! The class is $25 and includes all the supplies you will need. \nCourse fees for the first class are due by Wednesday\, May 4\, 2022 at 5 p.m. Bring checks or cash to the Hattiesburg Community Arts Center located at 825 North Main Street. Checks can be made payable to The City of Hattiesburg. \nFor more information\, contact Emily Gallaspy at 601.620.6422 or egallaspy@hattiesburgms.com \n
URL:https://www.hattiesburgms.com/event/macrame-class-with-leanna-kincannon-queen-of-the-daisy/
LOCATION:Hattiesburg Community Art Center\, 825 Main Street\, Hattiesburg\, MS\, 39401\, United States
CATEGORIES:Arts
ATTACH;FMTTYPE=image/png:https://www.hattiesburgms.com/wp-content/uploads/Copy-of-Copy-of-Copy-of-Copy-of-Garden-Volunteer-opportunity-350-×-1500-px.png
ORGANIZER;CN="Hattiesburg%20Community%20Arts%20Center":MAILTO:egallaspy@hattiesburgms.com
END:VEVENT
END:VCALENDAR