BEGIN:VCALENDAR
VERSION:2.0
PRODID:-//City of Hattiesburg - ECPv5.0.0//NONSGML v1.0//EN
CALSCALE:GREGORIAN
METHOD:PUBLISH
X-WR-CALNAME:City of Hattiesburg
X-ORIGINAL-URL:https://www.hattiesburgms.com
X-WR-CALDESC:Events for City of Hattiesburg
BEGIN:VTIMEZONE
TZID:America/Chicago
BEGIN:DAYLIGHT
TZOFFSETFROM:-0600
TZOFFSETTO:-0500
TZNAME:CDT
DTSTART:20220313T080000
END:DAYLIGHT
BEGIN:STANDARD
TZOFFSETFROM:-0500
TZOFFSETTO:-0600
TZNAME:CST
DTSTART:20221106T070000
END:STANDARD
END:VTIMEZONE
BEGIN:VEVENT
DTSTART;VALUE=DATE:20220421
DTEND;VALUE=DATE:20220502
DTSTAMP:20260421T184802
CREATED:20220428T164054Z
LAST-MODIFIED:20220428T164054Z
UID:27198-1650499200-1651449599@www.hattiesburgms.com
SUMMARY:Krystal Launches New Value Meal!
DESCRIPTION:What’s better than a Krystal? 3 Krystals! Krystal Restaurants LLC\, is offering their Value Meal for just $4.99\, prices may vary from location! The Value Meal includes: 3 Original Krystal’s with a small fry and drink for a limited time only. This amazing deal will only be available for guests who visit in-store participating Krystal locations from now to May 1st. Don’t miss the chance to try the signature slider of the south- the Krystal. \nFor more information about Krystal\, visit www.Krystal.com \n
URL:https://www.hattiesburgms.com/event/krystal-launches-new-value-meal/
ATTACH;FMTTYPE=image/jpeg:https://www.hattiesburgms.com/wp-content/uploads/Outlook-v5ut1svm.jpg
ORGANIZER;CN="Krystal":MAILTO:christopher@inklinkmarketing.com
END:VEVENT
BEGIN:VEVENT
DTSTART;TZID=America/Chicago:20220428T063000
DTEND;TZID=America/Chicago:20220501T133000
DTSTAMP:20260421T184802
CREATED:20220428T164054Z
LAST-MODIFIED:20220428T164054Z
UID:27200-1651127400-1651411800@www.hattiesburgms.com
SUMMARY:SHREK the Music - Oak Grove High School Theatre
DESCRIPTION:Come see the funny touching story that will have you laughing and crying.  You don’t want to miss it! \nOak Grove High School Theatre Department present SHREK the Musical at Performing Arts Center OGHS. \nOrder tickets online at oghsms.booktix.com.  $10 Tickets (unless sold out) can be purchase with cash at the door.  We will also be selling cast posters\, kisses for the cast and crew\, and concessions. Please bring cash for concessions. \nDates / Times \nApril 28  7:00 pm \nApril 29  7:00 pm \nApril 30  7:00 pm \nMay 1  2:00 pm \n
URL:https://www.hattiesburgms.com/event/shrek-the-music-oak-grove-high-school-theatre/2022-04-28/
LOCATION:Oak Grove High School Performing Arts Center\, 5198 Old Hwy 11\, Hattiesburg\, 39402\, United States
CATEGORIES:Hattiesburg Community Arts Center
ATTACH;FMTTYPE=image/jpeg:https://www.hattiesburgms.com/wp-content/uploads/278618365_10158149136927735_5038409466522530334_n.jpg
END:VEVENT
BEGIN:VEVENT
DTSTART;TZID=America/Chicago:20220430T090000
DTEND;TZID=America/Chicago:20220430T130000
DTSTAMP:20260421T184802
CREATED:20220428T163956Z
LAST-MODIFIED:20220428T163956Z
UID:27114-1651309200-1651323600@www.hattiesburgms.com
SUMMARY:Healthy Kids Day
DESCRIPTION:The Family YMCA is hosting the Y’s annual Healthy Kids Day® on April 30th from 9am-1pm\, encouraging families to take a moment to help kids be kids and set them up for a summer of success. The event will feature activities such as  games\, healthy eating demonstrations\, arts and crafts\, competitions to motivate and teach families how to develop and maintain healthy routines at home. \n  \n
URL:https://www.hattiesburgms.com/event/healthy-kids-day/
LOCATION:The Family Y Hattiesburg\, 3719 Veterans Memorial Drive\, Hattiesburg\, MS\, 39401\, United States
CATEGORIES:Community Event
ORGANIZER;CN="The%20Family%20Y%20Hattiesburg":MAILTO:ahubbard@ymcasems.org
END:VEVENT
BEGIN:VEVENT
DTSTART;TZID=America/Chicago:20220430T100000
DTEND;TZID=America/Chicago:20220430T160000
DTSTAMP:20260421T184802
CREATED:20220428T163955Z
LAST-MODIFIED:20220428T163955Z
UID:27059-1651312800-1651334400@www.hattiesburgms.com
SUMMARY:HCAC Art Market and Plant Swap
DESCRIPTION:As a premier city in the Gulf South\, this event hopes to engage locals and visitors to take part in our creative economy while celebrating our local artists! Held at the Hattiesburg Community Arts Center (825 North Main Street – formerly the Hattiesburg American Building)\, the HCAC Art Market is the perfect place to explore local art and support small businesses! This market will feature free crafting\, live music by Mississippi Shakedown\, and a plant swap!\nFollow the link below to register for a vendor space at the event.\nhttps://docs.google.com/…/1FAIpQLSccb…/viewform…\nFor more information\, contact Emily Adcock Gallaspy at egallaspy@hattiesburgms.com or 601.620.6422.\n
URL:https://www.hattiesburgms.com/event/hcac-art-market-and-plant-swap/
LOCATION:Hattiesburg Community Art Center\, 825 Main Street\, Hattiesburg\, MS\, 39401\, United States
CATEGORIES:Hattiesburg Community Arts Center
ATTACH;FMTTYPE=image/png:https://www.hattiesburgms.com/wp-content/uploads/Copy-of-Copy-of-Copy-of-Copy-of-Copy-of-Fun-Orange-Gold-Modern-Contemporary-Smiling-Sun-Illustration-Summer-Logo-10-×-8-in-Facebook-Cover.png
ORGANIZER;CN="Hattiesburg%20Community%20Arts%20Center":MAILTO:egallaspy@hattiesburgms.com
END:VEVENT
END:VCALENDAR