BEGIN:VCALENDAR
VERSION:2.0
PRODID:-//City of Hattiesburg - ECPv5.0.0//NONSGML v1.0//EN
CALSCALE:GREGORIAN
METHOD:PUBLISH
X-WR-CALNAME:City of Hattiesburg
X-ORIGINAL-URL:https://www.hattiesburgms.com
X-WR-CALDESC:Events for City of Hattiesburg
BEGIN:VTIMEZONE
TZID:America/Chicago
BEGIN:DAYLIGHT
TZOFFSETFROM:-0600
TZOFFSETTO:-0500
TZNAME:CDT
DTSTART:20220313T080000
END:DAYLIGHT
BEGIN:STANDARD
TZOFFSETFROM:-0500
TZOFFSETTO:-0600
TZNAME:CST
DTSTART:20221106T070000
END:STANDARD
END:VTIMEZONE
BEGIN:VEVENT
DTSTART;VALUE=DATE:20220421
DTEND;VALUE=DATE:20220430
DTSTAMP:20260422T071806
CREATED:20220406T155953Z
LAST-MODIFIED:20220406T155953Z
UID:26882-1650499200-1651276799@www.hattiesburgms.com
SUMMARY:Art & Design Senior Show in Graphic Design
DESCRIPTION:An exhibition of final capstone projects by seniors in Graphic Design.  \n
URL:https://www.hattiesburgms.com/event/art-design-senior-show-in-graphic-design/2022-04-21/
LOCATION:Gallery of Art & Design\, George Hurst\, 3000-3082 Pearl St\, Hattiesburg\, MS\, 39401\, United States
ATTACH;FMTTYPE=image/jpeg:https://www.hattiesburgms.com/wp-content/uploads/2022-SPRING-EVENT-SQUARES100.jpg
ORGANIZER;CN="Mike%20Lopinto":MAILTO:Mike.Lopinto@usm.edu
END:VEVENT
BEGIN:VEVENT
DTSTART;VALUE=DATE:20220421
DTEND;VALUE=DATE:20220502
DTSTAMP:20260422T071806
CREATED:20220428T164054Z
LAST-MODIFIED:20220428T164054Z
UID:27198-1650499200-1651449599@www.hattiesburgms.com
SUMMARY:Krystal Launches New Value Meal!
DESCRIPTION:What’s better than a Krystal? 3 Krystals! Krystal Restaurants LLC\, is offering their Value Meal for just $4.99\, prices may vary from location! The Value Meal includes: 3 Original Krystal’s with a small fry and drink for a limited time only. This amazing deal will only be available for guests who visit in-store participating Krystal locations from now to May 1st. Don’t miss the chance to try the signature slider of the south- the Krystal. \nFor more information about Krystal\, visit www.Krystal.com \n
URL:https://www.hattiesburgms.com/event/krystal-launches-new-value-meal/
LOCATION:MS
ATTACH;FMTTYPE=image/jpeg:https://www.hattiesburgms.com/wp-content/uploads/Outlook-v5ut1svm.jpg
ORGANIZER;CN="Krystal":MAILTO:christopher@inklinkmarketing.com
END:VEVENT
BEGIN:VEVENT
DTSTART;TZID=America/Chicago:20220422T193000
DTEND;TZID=America/Chicago:20220422T193000
DTSTAMP:20260422T071806
CREATED:20220406T155953Z
LAST-MODIFIED:20220406T155953Z
UID:26879-1650655800-1650655800@www.hattiesburgms.com
SUMMARY:She Kills Monsters by Qui Ngyuen
DESCRIPTION:The world of fantasy roleplaying games is brought to life in Qui Nguyen’s contemporary hit. Agnes Evans delves into a game created by her late sister and discovers more about her sister\, and herself\, than she anticipated. Filled with monsters\, dungeons\, and\, yes\, dragons\, She Kills Monsters is a comedic exploration of a world where fantasy and family collide.  \n
URL:https://www.hattiesburgms.com/event/she-kills-monsters-by-qui-ngyuen/
LOCATION:Theatre and Dance Building\, 229 Ross Blvd studio 115\, Hattiesburg\, MS\, 39401\, United States
ORGANIZER;CN="Mike%20Lopinto":MAILTO:Mike.Lopinto@usm.edu
END:VEVENT
BEGIN:VEVENT
DTSTART;TZID=America/Chicago:20220422T193000
DTEND;TZID=America/Chicago:20220422T193000
DTSTAMP:20260422T071806
CREATED:20220406T160038Z
LAST-MODIFIED:20220406T160038Z
UID:26942-1650655800-1650655800@www.hattiesburgms.com
SUMMARY:Wind Ensemble Concert
DESCRIPTION:The Wind Ensemble welcomes Weston Sprott\, trombonist for the Metropolitan Opera Orchestra\, to the stage. Sprott will perform composer Anthony Barfield’s “Red Sky.” The piece is a representation of the Big Bang Theory and the evolution of people. As history tells us\, The Big Bang explains how the universe expanded from one single point. All the matter\, energy\, and light were compacted into an infinitely dense point. The universe then tremendously expanded. This work focuses on space\,matter and energy as a whole. \n
URL:https://www.hattiesburgms.com/event/wind-ensemble-concert-3/
LOCATION:Bennett Auditorium\, 113 East Memorial Drive\, Hattiesburg\, MS\, 39406\, United States
ATTACH;FMTTYPE=image/jpeg:https://www.hattiesburgms.com/wp-content/uploads/2022-SPRING-EVENT-SQUARES102.jpg
ORGANIZER;CN="School%20of%20Music":MAILTO:mike.lopinto@usm.edu
END:VEVENT
BEGIN:VEVENT
DTSTART;TZID=America/Chicago:20220422T193000
DTEND;TZID=America/Chicago:20220422T193000
DTSTAMP:20260422T071806
CREATED:20220406T160038Z
LAST-MODIFIED:20220406T160038Z
UID:26944-1650655800-1650655800@www.hattiesburgms.com
SUMMARY:Wind Ensemble Concert
DESCRIPTION:The Wind Ensemble welcomes Weston Sprott\, trombonist for the Metropolitan Opera Orchestra\, to the stage. Sprott will perform composer Anthony Barfield’s “Red Sky.” The piece is a representation of the Big Bang Theory and the evolution of people. As history tells us\, The Big Bang explains how the universe expanded from one single point. All the matter\, energy\, and light were compacted into an infinitely dense point. The universe then tremendously expanded. This work focuses on space\, matter and energy as a whole. \n  \n***Note to publisher: Please disregard previous message as there was an error. The location is at the Mannoni Performing Arts Center and NOT Bennett Auditorium\, as well as a change in event image. Thank you. \n
URL:https://www.hattiesburgms.com/event/wind-ensemble-concert-4/
LOCATION:Mannoni Performing Arts Center\, 2701 Hardy Street\, Hattiesburg\, MS\, 39402\, United States
CATEGORIES:Campus Event at Southern Miss
ATTACH;FMTTYPE=image/jpeg:https://www.hattiesburgms.com/wp-content/uploads/2022-SPRING-EVENT-SQUARES102-1.jpg
ORGANIZER;CN="School%20of%20Music":MAILTO:mike.lopinto@usm.edu
END:VEVENT
END:VCALENDAR