BEGIN:VCALENDAR
VERSION:2.0
PRODID:-//City of Hattiesburg - ECPv5.0.0//NONSGML v1.0//EN
CALSCALE:GREGORIAN
METHOD:PUBLISH
X-WR-CALNAME:City of Hattiesburg
X-ORIGINAL-URL:https://www.hattiesburgms.com
X-WR-CALDESC:Events for City of Hattiesburg
BEGIN:VTIMEZONE
TZID:America/Chicago
BEGIN:DAYLIGHT
TZOFFSETFROM:-0600
TZOFFSETTO:-0500
TZNAME:CDT
DTSTART:20220313T080000
END:DAYLIGHT
BEGIN:STANDARD
TZOFFSETFROM:-0500
TZOFFSETTO:-0600
TZNAME:CST
DTSTART:20221106T070000
END:STANDARD
END:VTIMEZONE
BEGIN:VEVENT
DTSTART;TZID=America/Chicago:20220418T200000
DTEND;TZID=America/Chicago:20220418T200000
DTSTAMP:20260422T133745
CREATED:20220308T163420Z
LAST-MODIFIED:20220308T163420Z
UID:26808-1650312000-1650312000@www.hattiesburgms.com
SUMMARY:Faculty Lecture Recital Series presents "Clarifying the Muddy Waters of Samuel Barber" - Dr. Elizabeth Moak\, piano
DESCRIPTION:This lecture-recital\, “Clarifying the Muddy Waters of Samuel Barber\,” with Elizabeth Moak\, piano\, in collaboration with Jean-Claude Coquempot\, will feature a performance of Samuel Barber’s Excursions II\, III\, and IV\, as well as discussion of its relationship to the music of Muddy Waters and others. \n
URL:https://www.hattiesburgms.com/event/faculty-lecture-recital-series-presents-clarifying-the-muddy-waters-of-samuel-barber-dr-elizabeth-moak-piano/
LOCATION:Marsh Auditorium at Southern Miss.\, 107 Southern Drive\, HATTIESBURG\, MS\, 39406\, United States
ATTACH;FMTTYPE=image/png:https://www.hattiesburgms.com/wp-content/uploads/2022-SPRING-EVENT-SQUARES95b.png
ORGANIZER;CN="Mike%20Lopinto":MAILTO:Mike.Lopinto@usm.edu
END:VEVENT
END:VCALENDAR