BEGIN:VCALENDAR
VERSION:2.0
PRODID:-//City of Hattiesburg - ECPv5.0.0//NONSGML v1.0//EN
CALSCALE:GREGORIAN
METHOD:PUBLISH
X-WR-CALNAME:City of Hattiesburg
X-ORIGINAL-URL:https://www.hattiesburgms.com
X-WR-CALDESC:Events for City of Hattiesburg
BEGIN:VTIMEZONE
TZID:America/Chicago
BEGIN:DAYLIGHT
TZOFFSETFROM:-0600
TZOFFSETTO:-0500
TZNAME:CDT
DTSTART:20220313T080000
END:DAYLIGHT
BEGIN:STANDARD
TZOFFSETFROM:-0500
TZOFFSETTO:-0600
TZNAME:CST
DTSTART:20221106T070000
END:STANDARD
END:VTIMEZONE
BEGIN:VEVENT
DTSTART;TZID=America/Chicago:20220413T100000
DTEND;TZID=America/Chicago:20220413T230000
DTSTAMP:20260422T221034
CREATED:20220406T160038Z
LAST-MODIFIED:20220406T160038Z
UID:26914-1649844000-1649890800@www.hattiesburgms.com
SUMMARY:Contractor’s Workshop
DESCRIPTION:To commemorate National Community Development Week\, the City of Hattiesburg’s Community Development Division is hosting a free Contractor’s Workshop on April 13\, 2022 at 10:00 a.m. at the Train Depot\, 308 Newman Street\, 39401.   Contractors are invited to the workshop to learn about working with the City of Hattiesburg’s Housing Rehabilitation and Emergency Repair Grant Program.  The session will include information on HUD’s program requirements\, contractor applications and the bidding process.  Registration is required\, email cdbg@hattiesburgms.com or call 601-554-1006. \n
URL:https://www.hattiesburgms.com/event/contractors-workshop/
LOCATION:The Hattiesburg Train Depot\, 308 Newman Street\, HATTIESBURG\, MS\, 39401\, United States
END:VEVENT
END:VCALENDAR