BEGIN:VCALENDAR
VERSION:2.0
PRODID:-//City of Hattiesburg - ECPv5.0.0//NONSGML v1.0//EN
CALSCALE:GREGORIAN
METHOD:PUBLISH
X-WR-CALNAME:City of Hattiesburg
X-ORIGINAL-URL:https://www.hattiesburgms.com
X-WR-CALDESC:Events for City of Hattiesburg
BEGIN:VTIMEZONE
TZID:America/Chicago
BEGIN:DAYLIGHT
TZOFFSETFROM:-0600
TZOFFSETTO:-0500
TZNAME:CDT
DTSTART:20220313T080000
END:DAYLIGHT
BEGIN:STANDARD
TZOFFSETFROM:-0500
TZOFFSETTO:-0600
TZNAME:CST
DTSTART:20221106T070000
END:STANDARD
END:VTIMEZONE
BEGIN:VEVENT
DTSTART;TZID=America/Chicago:20220410T150000
DTEND;TZID=America/Chicago:20220410T150000
DTSTAMP:20260423T032511
CREATED:20220308T163420Z
LAST-MODIFIED:20220308T163420Z
UID:26805-1649602800-1649602800@www.hattiesburgms.com
SUMMARY:Fresh Pans of Belair and SoMisPO Concert
DESCRIPTION:A favorite of Hattiesburg audiences\, the Southern Miss Steel Pan Orchestra performs fun and exciting music for the whole family! \n
URL:https://www.hattiesburgms.com/event/fresh-pans-of-belair-and-somispo-concert/
LOCATION:Mannoni Performing Arts Center\, 2701 Hardy Street\, Hattiesburg\, MS\, 39402\, United States
ATTACH;FMTTYPE=image/jpeg:https://www.hattiesburgms.com/wp-content/uploads/2022-SPRING-EVENT-SQUARES87.jpg
ORGANIZER;CN="Mike%20Lopinto":MAILTO:Mike.Lopinto@usm.edu
END:VEVENT
END:VCALENDAR