BEGIN:VCALENDAR
VERSION:2.0
PRODID:-//City of Hattiesburg - ECPv5.0.0//NONSGML v1.0//EN
CALSCALE:GREGORIAN
METHOD:PUBLISH
X-WR-CALNAME:City of Hattiesburg
X-ORIGINAL-URL:https://www.hattiesburgms.com
X-WR-CALDESC:Events for City of Hattiesburg
BEGIN:VTIMEZONE
TZID:America/Chicago
BEGIN:DAYLIGHT
TZOFFSETFROM:-0600
TZOFFSETTO:-0500
TZNAME:CDT
DTSTART:20220313T080000
END:DAYLIGHT
BEGIN:STANDARD
TZOFFSETFROM:-0500
TZOFFSETTO:-0600
TZNAME:CST
DTSTART:20221106T070000
END:STANDARD
END:VTIMEZONE
BEGIN:VEVENT
DTSTART;VALUE=DATE:20220323
DTEND;VALUE=DATE:20220409
DTSTAMP:20260423T064820
CREATED:20220308T163323Z
LAST-MODIFIED:20220308T163323Z
UID:26706-1647993600-1649462399@www.hattiesburgms.com
SUMMARY:Art & Design Annual Student Show
DESCRIPTION:The Annual Student Show is a juried exhibition of works produced by Art & Design students in the School of Performing and Visual Arts. This greatly anticipated annual event is presented each spring and gives art students the opportunity to exhibit their creative achievements in visual arts produced over the past year and compete for awards in various categories. The student show features work from studio courses in art foundations\, drawing\, painting\, printmaking\, digital photography\, ceramics\, sculpture\, and graphic design.  \n
URL:https://www.hattiesburgms.com/event/art-design-annual-student-show-2/2022-03-23/
LOCATION:Gallery of Art & Design\, George Hurst\, 3000-3082 Pearl St\, Hattiesburg\, MS\, 39401\, United States
ATTACH;FMTTYPE=image/jpeg:https://www.hattiesburgms.com/wp-content/uploads/2022-SPRING-EVENT-SQUARES73.jpg
ORGANIZER;CN="Mike%20Lopinto":MAILTO:Mike.Lopinto@usm.edu
END:VEVENT
BEGIN:VEVENT
DTSTART;TZID=America/Chicago:20220407T190000
DTEND;TZID=America/Chicago:20220409T190000
DTSTAMP:20260423T064820
CREATED:20220308T163420Z
LAST-MODIFIED:20220308T163420Z
UID:26789-1649358000-1649530800@www.hattiesburgms.com
SUMMARY:Spring Repertory Dance Concert 1
DESCRIPTION:The University of Southern Mississippi’s Repertory Dance Company (RDC) presents Spring Repertory Dance Concert 1. This first spring concert of two will feature new works choreographed by USM Dance Program junior choreography students\, as well as faculty. Inspiration awaits as you are seated in an intimate setting where art happens live\, up close and personal. Join us this spring for more in person concerts to follow! \n
URL:https://www.hattiesburgms.com/event/spring-repertory-dance-concert-1/
LOCATION:Theatre and Dance Building\, 229 Ross Blvd studio 115\, Hattiesburg\, MS\, 39401\, United States
ATTACH;FMTTYPE=image/jpeg:https://www.hattiesburgms.com/wp-content/uploads/2022-SPRING-EVENT-SQUARES81.jpg
END:VEVENT
BEGIN:VEVENT
DTSTART;TZID=America/Chicago:20220408T180000
DTEND;TZID=America/Chicago:20220408T180000
DTSTAMP:20260423T064820
CREATED:20220308T163420Z
LAST-MODIFIED:20220308T163420Z
UID:26798-1649440800-1649440800@www.hattiesburgms.com
SUMMARY:Faculty ARtist Series presents Dr. Timothy Tesh\, trumpet & Dr. Michael Bunchman\, piano
DESCRIPTION:Dr. T.J. Tesh\, trumpet\, in collaboration with Dr. Michael Bunchman\, piano\, will present a faculty recital featuring the works of Stravinsky\, Ropartz\, Ewazen\, Bernstein\, Peaslee\, and Turrin. \n
URL:https://www.hattiesburgms.com/event/faculty-artist-series-presents-dr-timothy-tesh-trumpet-dr-michael-bunchman-piano/
LOCATION:Marsh Auditorium at Southern Miss.\, 107 Southern Drive\, HATTIESBURG\, MS\, 39406\, United States
ATTACH;FMTTYPE=image/png:https://www.hattiesburgms.com/wp-content/uploads/2022-SPRING-EVENT-SQUARES85b.png
ORGANIZER;CN="Mike%20Lopinto":MAILTO:Mike.Lopinto@usm.edu
END:VEVENT
END:VCALENDAR