BEGIN:VCALENDAR
VERSION:2.0
PRODID:-//City of Hattiesburg - ECPv5.0.0//NONSGML v1.0//EN
CALSCALE:GREGORIAN
METHOD:PUBLISH
X-WR-CALNAME:City of Hattiesburg
X-ORIGINAL-URL:https://www.hattiesburgms.com
X-WR-CALDESC:Events for City of Hattiesburg
BEGIN:VTIMEZONE
TZID:America/Chicago
BEGIN:DAYLIGHT
TZOFFSETFROM:-0600
TZOFFSETTO:-0500
TZNAME:CDT
DTSTART:20220313T080000
END:DAYLIGHT
BEGIN:STANDARD
TZOFFSETFROM:-0500
TZOFFSETTO:-0600
TZNAME:CST
DTSTART:20221106T070000
END:STANDARD
END:VTIMEZONE
BEGIN:VEVENT
DTSTART;VALUE=DATE:20220323
DTEND;VALUE=DATE:20220409
DTSTAMP:20260423T151712
CREATED:20220308T163323Z
LAST-MODIFIED:20220308T163323Z
UID:26706-1647993600-1649462399@www.hattiesburgms.com
SUMMARY:Art & Design Annual Student Show
DESCRIPTION:The Annual Student Show is a juried exhibition of works produced by Art & Design students in the School of Performing and Visual Arts. This greatly anticipated annual event is presented each spring and gives art students the opportunity to exhibit their creative achievements in visual arts produced over the past year and compete for awards in various categories. The student show features work from studio courses in art foundations\, drawing\, painting\, printmaking\, digital photography\, ceramics\, sculpture\, and graphic design.  \n
URL:https://www.hattiesburgms.com/event/art-design-annual-student-show-2/2022-03-23/
LOCATION:Gallery of Art & Design\, George Hurst\, 3000-3082 Pearl St\, Hattiesburg\, MS\, 39401\, United States
ATTACH;FMTTYPE=image/jpeg:https://www.hattiesburgms.com/wp-content/uploads/2022-SPRING-EVENT-SQUARES73.jpg
ORGANIZER;CN="Mike%20Lopinto":MAILTO:Mike.Lopinto@usm.edu
END:VEVENT
BEGIN:VEVENT
DTSTART;TZID=America/Chicago:20220402T090000
DTEND;TZID=America/Chicago:20220402T160000
DTSTAMP:20260423T151712
CREATED:20220308T163527Z
LAST-MODIFIED:20220308T163527Z
UID:26722-1648890000-1648915200@www.hattiesburgms.com
SUMMARY:Life Line Health Screening Event
DESCRIPTION:Community Health Screening event by life Line Screening. \nLife Line Screening provides valuable health screenings to detect the risk of stroke and cardiovascular disease.\n  \nLife Line Screening will be at C E Roy Community Center on Saturday\, April 2\, 2022 and are offering a special price for our members. Learn more and schedule your appointment  by calling 1-888-653-6441 \,texting the word circle to 797979 or visit Life Line Screening’s website at https://llsa.social/HS \n
URL:https://www.hattiesburgms.com/event/life-line-health-screening-event/
LOCATION:CE Roy Community Center\, 300 East 6th Street\, Hattiesburg\, 39401\, United States
ATTACH;FMTTYPE=image/png:https://www.hattiesburgms.com/wp-content/uploads/CE-Roy-Community-Center-Flyer.png
END:VEVENT
END:VCALENDAR