BEGIN:VCALENDAR
VERSION:2.0
PRODID:-//City of Hattiesburg - ECPv5.0.0//NONSGML v1.0//EN
CALSCALE:GREGORIAN
METHOD:PUBLISH
X-WR-CALNAME:City of Hattiesburg
X-ORIGINAL-URL:https://www.hattiesburgms.com
X-WR-CALDESC:Events for City of Hattiesburg
BEGIN:VTIMEZONE
TZID:America/Chicago
BEGIN:DAYLIGHT
TZOFFSETFROM:-0600
TZOFFSETTO:-0500
TZNAME:CDT
DTSTART:20220313T080000
END:DAYLIGHT
BEGIN:STANDARD
TZOFFSETFROM:-0500
TZOFFSETTO:-0600
TZNAME:CST
DTSTART:20221106T070000
END:STANDARD
END:VTIMEZONE
BEGIN:VEVENT
DTSTART;VALUE=DATE:20220323
DTEND;VALUE=DATE:20220409
DTSTAMP:20260424T055344
CREATED:20220308T163323Z
LAST-MODIFIED:20220308T163323Z
UID:26706-1647993600-1649462399@www.hattiesburgms.com
SUMMARY:Art & Design Annual Student Show
DESCRIPTION:The Annual Student Show is a juried exhibition of works produced by Art & Design students in the School of Performing and Visual Arts. This greatly anticipated annual event is presented each spring and gives art students the opportunity to exhibit their creative achievements in visual arts produced over the past year and compete for awards in various categories. The student show features work from studio courses in art foundations\, drawing\, painting\, printmaking\, digital photography\, ceramics\, sculpture\, and graphic design.  \n
URL:https://www.hattiesburgms.com/event/art-design-annual-student-show-2/2022-03-23/
LOCATION:Gallery of Art & Design\, George Hurst\, 3000-3082 Pearl St\, Hattiesburg\, MS\, 39401\, United States
ATTACH;FMTTYPE=image/jpeg:https://www.hattiesburgms.com/wp-content/uploads/2022-SPRING-EVENT-SQUARES73.jpg
ORGANIZER;CN="Mike%20Lopinto":MAILTO:Mike.Lopinto@usm.edu
END:VEVENT
BEGIN:VEVENT
DTSTART;TZID=America/Chicago:20220324T140000
DTEND;TZID=America/Chicago:20220324T170000
DTSTAMP:20260424T055344
CREATED:20220308T163555Z
LAST-MODIFIED:20220308T163555Z
UID:26826-1648130400-1648141200@www.hattiesburgms.com
SUMMARY:Blood Drive at The Family YMCA
DESCRIPTION:Blood Drive at The Family YMCA Hattiesburg \n3719 Veterans Memorial Drive \nGive Blood and Save a Life!!! \n
URL:https://www.hattiesburgms.com/event/blood-drive-at-the-family-ymca/
LOCATION:The Family Y Hattiesburg\, 3719 Veterans Memorial Drive\, Hattiesburg\, MS\, 39401\, United States
CATEGORIES:Community Event
ATTACH;FMTTYPE=image/jpeg:https://www.hattiesburgms.com/wp-content/uploads/Week6_1.jpg
ORGANIZER;CN="Sarah%20Booker":MAILTO:sbooker@ymcasems.org
END:VEVENT
BEGIN:VEVENT
DTSTART;TZID=America/Chicago:20220324T180000
DTEND;TZID=America/Chicago:20220324T200000
DTSTAMP:20260424T055344
CREATED:20220406T155953Z
LAST-MODIFIED:20220406T155953Z
UID:26885-1648144800-1648152000@www.hattiesburgms.com
SUMMARY:Adult Watercolor Classes
DESCRIPTION:Where:\nHattiesburg Community Arts Center\n825 North Main Street \nThis class is suitable for any skill level. Students will explore various watercolor painting techniques and learn new approaches to painting using experimentation\, demonstration\, and discussion. Each week\, Brett will walk you through a different watercolor technique\, and you will leave the class with a completed painting. \n$20 per class\n$75 for all five \nCourse Curriculum:\nThursday\, March 24; 6-8 p.m.\nTechniques/Brushes \nThursday\, March 31; 6-8 p.m.\nColor/Contrast \nThursday\, April 7; 6-8 p.m.\nFine lines/Shapes \nThursday\, April 14; 6-8 p.m.\nPerspective/Depth \nThursday\, April 21; 6-8 p.m.\nTexture \nCourse fees for the first class are due by Tuesday\, March 22 at 5 p.m. Bring checks or cash to the Hattiesburg Community Arts Center located at 825 North Main Street. Checks can be made payable to The City of Hattiesburg. \nFor more information\, contact Emily Gallaspy at 601.620.6422 or egallaspy@hattiesburgms.com \n
URL:https://www.hattiesburgms.com/event/adult-watercolor-classes/2022-03-24/
LOCATION:Hattiesburg Community Art Center\, 825 Main Street\, Hattiesburg\, MS\, 39401\, United States
CATEGORIES:Hattiesburg Community Arts Center
ATTACH;FMTTYPE=image/png:https://www.hattiesburgms.com/wp-content/uploads/Copy-of-Copy-of-Garden-Volunteer-opportunity-3.png
ORGANIZER;CN="Hattiesburg%20Community%20Arts%20Center":MAILTO:egallaspy@hattiesburgms.com
END:VEVENT
END:VCALENDAR