BEGIN:VCALENDAR
VERSION:2.0
PRODID:-//City of Hattiesburg - ECPv5.0.0//NONSGML v1.0//EN
CALSCALE:GREGORIAN
METHOD:PUBLISH
X-WR-CALNAME:City of Hattiesburg
X-ORIGINAL-URL:https://www.hattiesburgms.com
X-WR-CALDESC:Events for City of Hattiesburg
BEGIN:VTIMEZONE
TZID:America/Chicago
BEGIN:DAYLIGHT
TZOFFSETFROM:-0600
TZOFFSETTO:-0500
TZNAME:CDT
DTSTART:20220313T080000
END:DAYLIGHT
BEGIN:STANDARD
TZOFFSETFROM:-0500
TZOFFSETTO:-0600
TZNAME:CST
DTSTART:20221106T070000
END:STANDARD
END:VTIMEZONE
BEGIN:VEVENT
DTSTART;TZID=America/Chicago:20220201T093000
DTEND;TZID=America/Chicago:20220308T113000
DTSTAMP:20260425T140840
CREATED:20211025T165139Z
LAST-MODIFIED:20211025T165139Z
UID:24854-1643707800-1646739000@www.hattiesburgms.com
SUMMARY:Senior Readers Theater Classes
DESCRIPTION:Senior Readers Theater Classes with Sherri Marengo \nFebruary 1 – March 8\, Every Tuesday 9:30-11:30am \nTuesday\, March 8\, 6-7:30pm – Final Live Performance\nHattiesburg Cultural Center \n(Free and open to the public) \n
URL:https://www.hattiesburgms.com/event/senior-readers-theater-classes/
LOCATION:Hattiesburg Cultural Center\, 723 Main St\, Hattiesburg\, MS\, 39401\, United States
ATTACH;FMTTYPE=image/jpeg:https://www.hattiesburgms.com/wp-content/uploads/001c-HAC.Logo_.2014.small_.COLOR_.file_-5.jpg
ORGANIZER;CN="Hattiesburg%20Arts%20Council":MAILTO:hattiesburgartscouncil@gmail.com
END:VEVENT
BEGIN:VEVENT
DTSTART;TZID=America/Chicago:20220226T100000
DTEND;TZID=America/Chicago:20220304T150000
DTSTAMP:20260425T140840
CREATED:20220207T175809Z
LAST-MODIFIED:20220207T180203Z
UID:26626-1645869600-1646406000@www.hattiesburgms.com
SUMMARY:February Arts Market
DESCRIPTION:As a premier city in the Gulf South\, this event hopes to engage locals and visitors to take part in our creative economy while celebrating our local artists! Held at the Hattiesburg Community Arts Center (825 North Main Street – formerly the Hattiesburg American Building)\, the HCAC Art Market is the perfect place to explore local art and support small businesses!\n\nWant to be a vendor at the event? Follow this link.\nFor more information\, contact Emily Adcock Gallaspy at egallaspy@hattiesburgms.com or 601.620.6422.\n
URL:https://www.hattiesburgms.com/event/feb-arts-market/
LOCATION:Hattiesburg Community Art Center\, 825 Main Street\, Hattiesburg\, MS\, 39401\, United States
CATEGORIES:Hattiesburg Community Arts Center
ATTACH;FMTTYPE=image/jpeg:https://www.hattiesburgms.com/wp-content/uploads/feb_artscenter_artsmarket.jpeg
ORGANIZER;CN="Hattiesburg%20Community%20Arts%20Center":MAILTO:egallaspy@hattiesburgms.com
END:VEVENT
BEGIN:VEVENT
DTSTART;TZID=America/Chicago:20220303T193000
DTEND;TZID=America/Chicago:20220303T213000
DTSTAMP:20260425T140840
CREATED:20220214T154541Z
LAST-MODIFIED:20220214T154541Z
UID:26648-1646335800-1646343000@www.hattiesburgms.com
SUMMARY:Southern Opera and Musical Theatre Company presents: Curtain Up! The Show Must Go On!
DESCRIPTION:Presented by the Forrest General Spirit of Women Program\, Southern Miss Alumni Association and Hattiesburg Coca-Cola\, students of the Southern Opera and Musical Theatre Company came together to present a production in lieu of the Covid cancellation of 9 to 5. This sung and danced performance is filled with Broadway favorites new and old and is a testament to the tenacity of our talented singing actors! You will want to be there to cheer on these dynamic performers in this incredible evening of showtunes! \n  \nDue to Covid-19 restrictions\, this show replaces 9 to 5: The Musical. Tickets for Thursday and Saturday are still good for this show. if you purchased Friday night tickets\, please contact the Southern Miss Ticket Office at 601.266.5418 to exchange them for either Friday or Saturday shows. We appreciate your patience as we all navigate this together! \n
URL:https://www.hattiesburgms.com/event/southern-opera-and-musical-theatre-company-presents-curtain-up-the-show-must-go-on/2022-03-03/
LOCATION:MS
ATTACH;FMTTYPE=image/png:https://www.hattiesburgms.com/wp-content/uploads/2022-SPRING-EVENT-SQUARES61b.png
END:VEVENT
BEGIN:VEVENT
DTSTART;TZID=America/Chicago:20220303T193000
DTEND;TZID=America/Chicago:20220303T213000
DTSTAMP:20260425T140840
CREATED:20220214T154541Z
LAST-MODIFIED:20220214T154541Z
UID:26651-1646335800-1646343000@www.hattiesburgms.com
SUMMARY:Southern Opera and Musical Theatre Company presents: Curtain Up! The Show Must Go On!
DESCRIPTION:Presented by the Forrest General Spirit of Women Program\, Southern Miss Alumni Association and Hattiesburg Coca-Cola\, students of the Southern Opera and Musical Theatre Company came together to present a production in lieu of the Covid cancellation of 9 to 5. This sung and danced performance is filled with Broadway favorites new and old and is a testament to the tenacity of our talented singing actors! You will want to be there to cheer on these dynamic performers in this incredible evening of showtunes! \n  \nDue to Covid-19 restrictions\, this show replaces 9 to 5: The Musical. Tickets for Thursday and Saturday are still good for this show. if you purchased Friday night tickets\, please contact the Southern Miss Ticket Office at 601.266.5418 to exchange them for either Friday or Saturday shows. We appreciate your patience as we all navigate this together! \n
URL:https://www.hattiesburgms.com/event/southern-opera-and-musical-theatre-company-presents-curtain-up-the-show-must-go-on-3/2022-03-03/
LOCATION:MS
ATTACH;FMTTYPE=image/png:https://www.hattiesburgms.com/wp-content/uploads/2022-SPRING-EVENT-SQUARES61b-1.png
END:VEVENT
END:VCALENDAR