BEGIN:VCALENDAR
VERSION:2.0
PRODID:-//City of Hattiesburg - ECPv5.0.0//NONSGML v1.0//EN
CALSCALE:GREGORIAN
METHOD:PUBLISH
X-WR-CALNAME:City of Hattiesburg
X-ORIGINAL-URL:https://www.hattiesburgms.com
X-WR-CALDESC:Events for City of Hattiesburg
BEGIN:VTIMEZONE
TZID:America/Chicago
BEGIN:DAYLIGHT
TZOFFSETFROM:-0600
TZOFFSETTO:-0500
TZNAME:CDT
DTSTART:20200308T080000
END:DAYLIGHT
BEGIN:STANDARD
TZOFFSETFROM:-0500
TZOFFSETTO:-0600
TZNAME:CST
DTSTART:20201101T070000
END:STANDARD
END:VTIMEZONE
BEGIN:VEVENT
DTSTART;TZID=America/Chicago:20200213T160000
DTEND;TZID=America/Chicago:20200213T190000
DTSTAMP:20260421T082350
CREATED:20190903T203808Z
LAST-MODIFIED:20200210T222654Z
UID:19943-1581609600-1581620400@www.hattiesburgms.com
SUMMARY:HAC smART Space: smARTY Gras for Kids & Families
DESCRIPTION:Interactive Exhibit \n
URL:https://www.hattiesburgms.com/event/hac-smart-space-smarty-gras-for-kids-families/
LOCATION:Hattiesburg Cultural Center\, 723 Main St\, Hattiesburg\, MS\, 39401\, United States
CATEGORIES:Arts
ATTACH;FMTTYPE=image/png:https://www.hattiesburgms.com/wp-content/uploads/smARTYgras.png
ORGANIZER;CN="Hattiesburg%20Arts%20Council":MAILTO:hattiesburgartscouncil@gmail.com
END:VEVENT
END:VCALENDAR