BEGIN:VCALENDAR
VERSION:2.0
PRODID:-//City of Hattiesburg - ECPv5.0.0//NONSGML v1.0//EN
CALSCALE:GREGORIAN
METHOD:PUBLISH
X-WR-CALNAME:City of Hattiesburg
X-ORIGINAL-URL:https://www.hattiesburgms.com
X-WR-CALDESC:Events for City of Hattiesburg
BEGIN:VTIMEZONE
TZID:America/Chicago
BEGIN:DAYLIGHT
TZOFFSETFROM:-0600
TZOFFSETTO:-0500
TZNAME:CDT
DTSTART:20190310T080000
END:DAYLIGHT
BEGIN:STANDARD
TZOFFSETFROM:-0500
TZOFFSETTO:-0600
TZNAME:CST
DTSTART:20191103T070000
END:STANDARD
END:VTIMEZONE
BEGIN:VEVENT
DTSTART;TZID=America/Chicago:20190427T070000
DTEND;TZID=America/Chicago:20190427T150000
DTSTAMP:20260421T095652
CREATED:20190423T210326Z
LAST-MODIFIED:20190423T210326Z
UID:19178-1556348400-1556377200@www.hattiesburgms.com
SUMMARY:Hattie Hundred Bike Ride
DESCRIPTION:Hattie Hundred is an annual bike ride put on by DREAM of Hattiesburg\, Inc. in partnership with the City of Hattiesburg. Riders bike through Historic Downtown Hattiesburg and experience The Longleaf Trace’s Rails to Trails! All proceeds will be donated to DREAM of Hattiesburg\, Inc. a 501(c) 3 non-profits who’s mission is to prevent and/or reduce the abuse of alcohol\, tobacco and other drugs in south Mississippi.  \n\n\n
URL:https://www.hattiesburgms.com/event/hattie-hundred-bike-ride/
LOCATION:Hattiesburg Train Depot\, 308 Newman Street\, Hattiesburg\, MS\, 39401\, United States
CATEGORIES:Community Event
ATTACH;FMTTYPE=image/png:https://www.hattiesburgms.com/wp-content/uploads/Hattie-100-Logo.png
ORGANIZER;CN="DREAM%20of%20Hattiesburg%2C%20Inc.":MAILTO:dream.lindav@dreamofhattiesburg.org
END:VEVENT
BEGIN:VEVENT
DTSTART;TZID=America/Chicago:20190427T110000
DTEND;TZID=America/Chicago:20190427T170000
DTSTAMP:20260421T095652
CREATED:20190328T164623Z
LAST-MODIFIED:20190328T164623Z
UID:18994-1556362800-1556384400@www.hattiesburgms.com
SUMMARY:21st Annual Downtown Crawfish Jam Music Festival
DESCRIPTION:The 21st Annual Downtown Crawfish Jam Music Festival (DCJ) presented in part by Southern Beverage\, is set for April 27\, 2019\, at Walthall Park. DCJ is one of several fun neighborhood events hosted by the Hattiesburg Historic Neighborhood throughout the year and serves as their most significant fundraiser for the Walthall Foundation. \nWalthall Park is located in the Hattiesburg Historic Neighborhood in Downtown Hattiesburg. This pay-one-price music festival features an exciting mix of musical acts in addition to all-you-can-eat: crawfish\, burger\, hot dogs\, Coke products and cold beer! \nBands featured include Royal Horses with Hal Kolodney\, Dwayne Dopsie & the Zydeco Hellraisers\, Ponch Bueller 7 the Loaded Baked Potatoes\, Midnight Revel with the Hub City Horns and local favorites Massive J & Battlecat and Shagnolia. \nThe festival will kick off at 8 a.m. with the 6th Annual USM Council Psychology Student Government Voodoo (Zombie) 5K run. The run will take place on in downtown Hattiesburg\, ending at Walthall Park at 9:30 a.m. before the start of the Downtown Crawfish Jam. For more details about the 5K\, visit their facebook page at www.facebook.com/CPSG5Krun. \nMusic will start at 11 a.m. and end at 5:30 p.m. In addition to crawfish\, the Downtown Crawfish Jam will also offer hot dogs\, sausage dogs and hamburgers\, soft drinks and beer\, a Kids Zone with various slides and jumps for kids of all ages and a family-friendly atmosphere. \n
URL:https://www.hattiesburgms.com/event/21st-annual-downtown-crawfish-jam-music-festival/
LOCATION:Walthall Park\, 600 Walnut Street\, Hattiesburg\, MS\, 39401\, United States
CATEGORIES:Community Event,Concert,Events
ATTACH;FMTTYPE=image/png:https://www.hattiesburgms.com/wp-content/uploads/DCJ.png
END:VEVENT
END:VCALENDAR