BEGIN:VCALENDAR
VERSION:2.0
PRODID:-//City of Hattiesburg - ECPv5.0.0//NONSGML v1.0//EN
CALSCALE:GREGORIAN
METHOD:PUBLISH
X-WR-CALNAME:City of Hattiesburg
X-ORIGINAL-URL:https://www.hattiesburgms.com
X-WR-CALDESC:Events for City of Hattiesburg
BEGIN:VTIMEZONE
TZID:America/Chicago
BEGIN:DAYLIGHT
TZOFFSETFROM:-0600
TZOFFSETTO:-0500
TZNAME:CDT
DTSTART:20190310T080000
END:DAYLIGHT
BEGIN:STANDARD
TZOFFSETFROM:-0500
TZOFFSETTO:-0600
TZNAME:CST
DTSTART:20191103T070000
END:STANDARD
END:VTIMEZONE
BEGIN:VEVENT
DTSTART;TZID=America/Chicago:20191001T193000
DTEND;TZID=America/Chicago:20191001T220000
DTSTAMP:20260421T100012
CREATED:20191001T182331Z
LAST-MODIFIED:20191001T182331Z
UID:20177-1569958200-1569967200@www.hattiesburgms.com
SUMMARY:Woodstock 50: Golden Anniversary Cocnert
DESCRIPTION:FestivalSouth® proudly presents Woodstock 50: Golden Anniversary Concert. Come hear the music of Jimi Hendrix\, Janis Joplin\, the Who\, Crosby\, Stills\, Nash and Young\, Santana\, Jefferson Airplane\, Joe Cocker\, Arlo Guthrie\, and many others. Originally billed as “Three Days of Peace & Music\,” the Woodstock festival truly was a one-of-a-kind experience! It was held in August 1969 at a dairy farm in the Catskill Mountains. More than half a million people came to see more than 32 acts that performed during that weekend. TheWoodstock festival is widely regarded as one of the most significant events in American popular music history. \nOur Woodstock tribute cast includes guitarists Vasti Jackson and Barry Leach; vocalists Patricia Garner\, David Walker\, Abigail Allen\, Joe VanZandt\, Wesley Barnett\, and Harlan Mapp; and band members Joseph Britain\, Andy Gilstrap\, Lowery Hicks\, Tom Howells\, Jenny Young\, and Zicky Hart; with Wes Hanson\, emcee. \n
URL:https://www.hattiesburgms.com/event/woodstock-50-golden-anniversary-cocnert/
LOCATION:Mannoni Performing Arts Center\, 2701 Hardy Street\, Hattiesburg\, MS\, 39402\, United States
CATEGORIES:Arts,Community Event,Concert
ATTACH;FMTTYPE=image/jpeg:https://www.hattiesburgms.com/wp-content/uploads/woodstock50.jpeg
END:VEVENT
END:VCALENDAR