BEGIN:VCALENDAR
VERSION:2.0
PRODID:-//City of Hattiesburg - ECPv5.0.0//NONSGML v1.0//EN
CALSCALE:GREGORIAN
METHOD:PUBLISH
X-WR-CALNAME:City of Hattiesburg
X-ORIGINAL-URL:https://www.hattiesburgms.com
X-WR-CALDESC:Events for City of Hattiesburg
BEGIN:VTIMEZONE
TZID:America/Chicago
BEGIN:DAYLIGHT
TZOFFSETFROM:-0600
TZOFFSETTO:-0500
TZNAME:CDT
DTSTART:20230312T080000
END:DAYLIGHT
BEGIN:STANDARD
TZOFFSETFROM:-0500
TZOFFSETTO:-0600
TZNAME:CST
DTSTART:20231105T070000
END:STANDARD
END:VTIMEZONE
BEGIN:VEVENT
DTSTART;TZID=America/Chicago:20230129T160000
DTEND;TZID=America/Chicago:20230129T180000
DTSTAMP:20260424T194053
CREATED:20221121T214528Z
LAST-MODIFIED:20221121T214528Z
UID:28278-1675008000-1675015200@www.hattiesburgms.com
SUMMARY:Webster's Wheel - Live original music
DESCRIPTION:Join Webster’s Wheel at the Switchyard for an evening of live original music. \nFind out more at: www.websterswheel.com/epk \n
URL:https://www.hattiesburgms.com/event/websters-wheel-live-original-music/
LOCATION:switchyard\, 309 Mobile St\, Hattiesburg\, MS\, 39401\, United States
CATEGORIES:Concert
ATTACH;FMTTYPE=image/jpeg:https://www.hattiesburgms.com/wp-content/uploads/Square.jpg
END:VEVENT
END:VCALENDAR