BEGIN:VCALENDAR
VERSION:2.0
PRODID:-//City of Hattiesburg - ECPv5.0.0//NONSGML v1.0//EN
CALSCALE:GREGORIAN
METHOD:PUBLISH
X-WR-CALNAME:City of Hattiesburg
X-ORIGINAL-URL:https://www.hattiesburgms.com
X-WR-CALDESC:Events for City of Hattiesburg
BEGIN:VTIMEZONE
TZID:America/Chicago
BEGIN:DAYLIGHT
TZOFFSETFROM:-0600
TZOFFSETTO:-0500
TZNAME:CDT
DTSTART:20190310T080000
END:DAYLIGHT
BEGIN:STANDARD
TZOFFSETFROM:-0500
TZOFFSETTO:-0600
TZNAME:CST
DTSTART:20191103T070000
END:STANDARD
END:VTIMEZONE
BEGIN:VEVENT
DTSTART;TZID=America/Chicago:20190725T103000
DTEND;TZID=America/Chicago:20190725T180000
DTSTAMP:20260421T193022
CREATED:20190716T203954Z
LAST-MODIFIED:20190716T203954Z
UID:19550-1564050600-1564077600@www.hattiesburgms.com
SUMMARY:WDAM Blood Bowl Bash - Community Blood Drive
DESCRIPTION:This annual event is sponsored by Miskelly Furniture and is held at 2 locations\, we will have hourly door prizes\, food and Miskelly will be raffling off two Recliners \nWhen: Thursday\, July 25;10:30 a.m. – 6:00 p.m. \nWhere Downtown- Jackie Dole Sherill Community Center & West Hattiesburg – Miskelly Furniture parking lot \nClick this link for an appointment for West Hattiesburg: \nhttps://www.bloodhero.com/index.cfm?group=op&step=2&opid=830746&opidh=BD44F1C8A65E9E0DDC998C4E3727C207&idt=43657.5877894 \nClick this link for an appointment for Downtown Hattiesburg: \nhttps://www.bloodhero.com/index.cfm?group=op&step=2&opid=830749&opidh=A98FA9397FC1DD60750401D34AD9BC32&idt=43657.5890394 \n  \n
URL:https://www.hattiesburgms.com/event/wdam-blood-bowl-bash-community-blood-drive/
LOCATION:Hattiesburg\, MS\, United States
CATEGORIES:Community Event
ATTACH;FMTTYPE=image/jpeg:https://www.hattiesburgms.com/wp-content/uploads/wdam.jpg
END:VEVENT
END:VCALENDAR