BEGIN:VCALENDAR
VERSION:2.0
PRODID:-//City of Hattiesburg - ECPv5.0.0//NONSGML v1.0//EN
CALSCALE:GREGORIAN
METHOD:PUBLISH
X-WR-CALNAME:City of Hattiesburg
X-ORIGINAL-URL:https://www.hattiesburgms.com
X-WR-CALDESC:Events for City of Hattiesburg
BEGIN:VTIMEZONE
TZID:America/Chicago
BEGIN:DAYLIGHT
TZOFFSETFROM:-0600
TZOFFSETTO:-0500
TZNAME:CDT
DTSTART:20210314T080000
END:DAYLIGHT
BEGIN:STANDARD
TZOFFSETFROM:-0500
TZOFFSETTO:-0600
TZNAME:CST
DTSTART:20211107T070000
END:STANDARD
END:VTIMEZONE
BEGIN:VEVENT
DTSTART;TZID=America/Chicago:20210421T180000
DTEND;TZID=America/Chicago:20210421T200000
DTSTAMP:20260421T205618
CREATED:20210325T044803Z
LAST-MODIFIED:20210529T164656Z
UID:23631-1619028000-1619035200@www.hattiesburgms.com
SUMMARY:Violin Studio Recital I
DESCRIPTION:Students from the Southern Miss Violin Studio perform the repertoire they’ve prepared for their final exams. It is the best concertos\, sonatas and solo works to be heard! \n
URL:https://www.hattiesburgms.com/event/violin-studio-recital-i/
ATTACH;FMTTYPE=image/jpeg:https://www.hattiesburgms.com/wp-content/uploads/WpLAC9xg.jpeg
END:VEVENT
END:VCALENDAR