BEGIN:VCALENDAR
VERSION:2.0
PRODID:-//City of Hattiesburg - ECPv5.0.0//NONSGML v1.0//EN
CALSCALE:GREGORIAN
METHOD:PUBLISH
X-WR-CALNAME:City of Hattiesburg
X-ORIGINAL-URL:https://www.hattiesburgms.com
X-WR-CALDESC:Events for City of Hattiesburg
BEGIN:VTIMEZONE
TZID:America/Chicago
BEGIN:DAYLIGHT
TZOFFSETFROM:-0600
TZOFFSETTO:-0500
TZNAME:CDT
DTSTART:20230312T080000
END:DAYLIGHT
BEGIN:STANDARD
TZOFFSETFROM:-0500
TZOFFSETTO:-0600
TZNAME:CST
DTSTART:20231105T070000
END:STANDARD
END:VTIMEZONE
BEGIN:VEVENT
DTSTART;TZID=America/Chicago:20230225T193000
DTEND;TZID=America/Chicago:20230225T193000
DTSTAMP:20260423T180630
CREATED:20230303T212423Z
LAST-MODIFIED:20230303T212423Z
UID:28659-1677353400-1677353400@www.hattiesburgms.com
SUMMARY:Verdi Requiem
DESCRIPTION:Southern Miss Choral Activities joins forces with the Pensacola Symphony Orchestra to present Guiseppe Verdi’s Messa da Requiem.  This “classic” work calls for an expanded orchestra of 80 musicians\, four solo voices\, and up to 275 singers in the chorus.  The Dies Irae is one of the most well-known movements in the oratorio canon\, having been quoted in commercials and used in a number of movies. \n
URL:https://www.hattiesburgms.com/event/verdi-requiem/
LOCATION:Pensacola Saenger Theater\, 118 S. Palafox Place\, Pensacola\, 32502\, United States
CATEGORIES:Arts,Concert,Events
ATTACH;FMTTYPE=image/jpeg:https://www.hattiesburgms.com/wp-content/uploads/SOM-BIG-2021-223-12.jpg
ORGANIZER;CN="School%20of%20Music":MAILTO:mike.lopinto@usm.edu
END:VEVENT
END:VCALENDAR