BEGIN:VCALENDAR
VERSION:2.0
PRODID:-//City of Hattiesburg - ECPv5.0.0//NONSGML v1.0//EN
CALSCALE:GREGORIAN
METHOD:PUBLISH
X-WR-CALNAME:City of Hattiesburg
X-ORIGINAL-URL:https://www.hattiesburgms.com
X-WR-CALDESC:Events for City of Hattiesburg
BEGIN:VTIMEZONE
TZID:America/Chicago
BEGIN:DAYLIGHT
TZOFFSETFROM:-0600
TZOFFSETTO:-0500
TZNAME:CDT
DTSTART:20240310T080000
END:DAYLIGHT
BEGIN:STANDARD
TZOFFSETFROM:-0500
TZOFFSETTO:-0600
TZNAME:CST
DTSTART:20241103T070000
END:STANDARD
END:VTIMEZONE
BEGIN:VEVENT
DTSTART;TZID=America/Chicago:20240214T100000
DTEND;TZID=America/Chicago:20240302T160000
DTSTAMP:20260421T160509
CREATED:20240202T221126Z
LAST-MODIFIED:20240202T221126Z
UID:30582-1707904800-1709395200@www.hattiesburgms.com
SUMMARY:Valentines for Veterans Art Showcase
DESCRIPTION:A display of children’s art honoring and celebrating military service members. February 14 – March 2 (Wednesdays-Fridays 10 a.m. – 4 p.m.) (Saturdays 12 p.m. – 4 p.m.) \n
URL:https://www.hattiesburgms.com/event/valentines-for-veterans-art-showcase/
LOCATION:African American Military History Museum\, 305 E 6th St\, Hattiesburg\, MS\, 39401\, United States
CATEGORIES:Black History Month
ATTACH;FMTTYPE=image/jpeg:https://www.hattiesburgms.com/wp-content/uploads/valentine.jpeg
END:VEVENT
END:VCALENDAR