BEGIN:VCALENDAR
VERSION:2.0
PRODID:-//City of Hattiesburg - ECPv5.0.0//NONSGML v1.0//EN
CALSCALE:GREGORIAN
METHOD:PUBLISH
X-WR-CALNAME:City of Hattiesburg
X-ORIGINAL-URL:https://www.hattiesburgms.com
X-WR-CALDESC:Events for City of Hattiesburg
BEGIN:VTIMEZONE
TZID:America/Chicago
BEGIN:DAYLIGHT
TZOFFSETFROM:-0600
TZOFFSETTO:-0500
TZNAME:CDT
DTSTART:20210314T080000
END:DAYLIGHT
BEGIN:STANDARD
TZOFFSETFROM:-0500
TZOFFSETTO:-0600
TZNAME:CST
DTSTART:20211107T070000
END:STANDARD
END:VTIMEZONE
BEGIN:VEVENT
DTSTART;TZID=America/Chicago:20210408T200000
DTEND;TZID=America/Chicago:20210408T230000
DTSTAMP:20260421T144343
CREATED:20210225T192501Z
LAST-MODIFIED:20210303T211539Z
UID:23344-1617912000-1617922800@www.hattiesburgms.com
SUMMARY:String Chamber Recital II
DESCRIPTION:Tune in to the second of two virtual performances our students will offer to the public. From the comfort of your home\, all around the world\, enjoy the hard work they will put into a variety of small chamber masterworks. We are honored to continue the celebrated String Chamber Series this spring! \n
URL:https://www.hattiesburgms.com/event/string-chamber-recital-ii/
ATTACH;FMTTYPE=image/jpeg:https://www.hattiesburgms.com/wp-content/uploads/ABFV1L2w.jpeg
END:VEVENT
END:VCALENDAR