BEGIN:VCALENDAR
VERSION:2.0
PRODID:-//City of Hattiesburg - ECPv5.0.0//NONSGML v1.0//EN
CALSCALE:GREGORIAN
METHOD:PUBLISH
X-WR-CALNAME:City of Hattiesburg
X-ORIGINAL-URL:https://www.hattiesburgms.com
X-WR-CALDESC:Events for City of Hattiesburg
BEGIN:VTIMEZONE
TZID:America/Chicago
BEGIN:DAYLIGHT
TZOFFSETFROM:-0600
TZOFFSETTO:-0500
TZNAME:CDT
DTSTART:20190310T080000
END:DAYLIGHT
BEGIN:STANDARD
TZOFFSETFROM:-0500
TZOFFSETTO:-0600
TZNAME:CST
DTSTART:20191103T070000
END:STANDARD
END:VTIMEZONE
BEGIN:VEVENT
DTSTART;TZID=America/Chicago:20191005T183000
DTEND;TZID=America/Chicago:20191005T210000
DTSTAMP:20260422T023513
CREATED:20191001T213537Z
LAST-MODIFIED:20191001T213537Z
UID:20274-1570300200-1570309200@www.hattiesburgms.com
SUMMARY:Sloth-a-Thon 2019
DESCRIPTION:Does the idea of running a marathon overwhelm you? If getting up at daylight to squeeze in a few miles isn’t your speed…WE HAVE AN EVENT FOR YOU!!! \nThe Hattiesburg Zoo presents SL🍩TH-A-TH🍩N 2019!! (21+ ONLY) Sponsored by Shipley Do-Nuts of Hattiesburg and Stokes Distributing \nSeriously\, who doesn’t love beer and donuts?? AND SLOTHS! \nSleep late\, wander in for donuts and beer (or root beer)\, hang out with sloths…what’s not to love?! \nOur 0.5k ‘racecourse’ is specifically designed for the SLOTH in YOU! \nCarb-load at donut stations and refuel at beer hydration stations along the route. Participate as a stand-alone sloth\, or bring a group and make it a team sport! \nThere will be special prizes for costumes\, team outfits\, and other creative “slothing” garb\, so we encourage you to get creative and SHOW US YOUR BEST SLOTH! \nEntry levels accommodate ‘plain-glazed’ budgets all the way to a full-on binge at the VIP level\, but hurry…there are limited VIP tickets available! \nAll Tickets Purchased Online Include: Race Number\, Work Excuse\, 2 Beer Samples\, 2 Donuts\, Unlimited Rides on the Train & Carousel\, Games\, and MORE! \nEARLY SLOTH – $15 (Online/Early) \nTEAM SLOTH – $40 (Team of 4) +$10 (Each Additional Person added to Team) \nVIP SLOTH – $50 (VIP) Includes a sloth selfie with MAPLE!\n* There will be a RAFFLE for 5 Additional Slots for Regular Ticket Holders! Maple Selfie Raffle Tickets will be $5 Each\, Available only at the Event! \nLAZY SLOTH CABANA – $75 \nWho wants to reserve a Cabana? There are only 4 Available! Cabana rental for Sloth-A-Thon includes a custom cabana sign and a giant stuffed SLOTH! \nLATE SLOTH – $18 (Available at the Gate) \nGET YOUR TICKETS NOW!\nTHEY WILL SELL QUICKLY\, so this is the only time we will encourage you to RUN. \nGates open at 6:30 p.m. and “race” start time is 7:00 p.m. \nThere will be games (giant beer pong\, cornhole\, giant checkers\, and MORE!) \nThe slothy splash pad will be open for some extra slippery slothing fun! \nMore beer and food will be available for purchase\, so come hungry and THIRSTY! \nMerchandise will be available prior to event at the Hattiesburg Zoo Gift Shop\, and available at the event! \nAll proceeds support the expansion of our sloth exhibit. \n
URL:https://www.hattiesburgms.com/event/sloth-a-thon-2019/
LOCATION:Hattiesburg Zoo\, 107 S 17th Avenue\, Hattiesburg\, MS\, United States
CATEGORIES:Community Event,Events,Nonprofit Fundraiser
ATTACH;FMTTYPE=image/jpeg:https://www.hattiesburgms.com/wp-content/uploads/sloth-a-thon.jpg
END:VEVENT
END:VCALENDAR