BEGIN:VCALENDAR
VERSION:2.0
PRODID:-//City of Hattiesburg - ECPv5.0.0//NONSGML v1.0//EN
CALSCALE:GREGORIAN
METHOD:PUBLISH
X-WR-CALNAME:City of Hattiesburg
X-ORIGINAL-URL:https://www.hattiesburgms.com
X-WR-CALDESC:Events for City of Hattiesburg
BEGIN:VTIMEZONE
TZID:America/Chicago
BEGIN:DAYLIGHT
TZOFFSETFROM:-0600
TZOFFSETTO:-0500
TZNAME:CDT
DTSTART:20220313T080000
END:DAYLIGHT
BEGIN:STANDARD
TZOFFSETFROM:-0500
TZOFFSETTO:-0600
TZNAME:CST
DTSTART:20221106T070000
END:STANDARD
END:VTIMEZONE
BEGIN:VEVENT
DTSTART;TZID=America/Chicago:20220428T063000
DTEND;TZID=America/Chicago:20220501T133000
DTSTAMP:20260421T201444
CREATED:20220428T164054Z
LAST-MODIFIED:20220428T164054Z
UID:27200-1651127400-1651411800@www.hattiesburgms.com
SUMMARY:SHREK the Music - Oak Grove High School Theatre
DESCRIPTION:Come see the funny touching story that will have you laughing and crying.  You don’t want to miss it! \nOak Grove High School Theatre Department present SHREK the Musical at Performing Arts Center OGHS. \nOrder tickets online at oghsms.booktix.com.  $10 Tickets (unless sold out) can be purchase with cash at the door.  We will also be selling cast posters\, kisses for the cast and crew\, and concessions. Please bring cash for concessions. \nDates / Times \nApril 28  7:00 pm \nApril 29  7:00 pm \nApril 30  7:00 pm \nMay 1  2:00 pm \n
URL:https://www.hattiesburgms.com/event/shrek-the-music-oak-grove-high-school-theatre/2022-04-28/
LOCATION:Oak Grove High School Performing Arts Center\, 5198 Old Hwy 11\, Hattiesburg\, 39402\, United States
CATEGORIES:Hattiesburg Community Arts Center
ATTACH;FMTTYPE=image/jpeg:https://www.hattiesburgms.com/wp-content/uploads/278618365_10158149136927735_5038409466522530334_n.jpg
END:VEVENT
END:VCALENDAR