BEGIN:VCALENDAR
VERSION:2.0
PRODID:-//City of Hattiesburg - ECPv5.0.0//NONSGML v1.0//EN
CALSCALE:GREGORIAN
METHOD:PUBLISH
X-WR-CALNAME:City of Hattiesburg
X-ORIGINAL-URL:https://www.hattiesburgms.com
X-WR-CALDESC:Events for City of Hattiesburg
BEGIN:VTIMEZONE
TZID:America/Chicago
BEGIN:DAYLIGHT
TZOFFSETFROM:-0600
TZOFFSETTO:-0500
TZNAME:CDT
DTSTART:20250309T080000
END:DAYLIGHT
BEGIN:STANDARD
TZOFFSETFROM:-0500
TZOFFSETTO:-0600
TZNAME:CST
DTSTART:20251102T070000
END:STANDARD
END:VTIMEZONE
BEGIN:VEVENT
DTSTART;TZID=America/Chicago:20250816T080000
DTEND;TZID=America/Chicago:20250816T093000
DTSTAMP:20260421T130919
CREATED:20250805T173753Z
LAST-MODIFIED:20250805T173753Z
UID:33911-1755331200-1755336600@www.hattiesburgms.com
SUMMARY:Rodney Richardson Water Run
DESCRIPTION:Experience the thrill of the third annual Rodney Richardson Water Run on Saturday\, August 16\, 2025\, at Town Square Park. This unique event\, designed to beat the August heat\, features a 5k and 1 Mile Fun Run course lined with super soakers and a refreshing blast from the Hattiesburg Fire Department as you cross the finish line. The race takes you through the picturesque Historic neighborhood in Downtown Hattiesburg\, culminating in a grand finish at Town Square Park. \nThis is a great event for the entire family. All proceeds from the race benefit Ddembe Ministries\, an orphan\, widow\, and family care ministry in Jinja\, Uganda. \nBoth races will offer same-day registration\, but runners who sign up after July 11\, 2025\, are not guaranteed a t-shirt. \n
URL:https://www.hattiesburgms.com/event/rodney-richardson-water-run/
LOCATION:Town Square Park\, Hattiesburg\, MS\, 39402\, United States
CATEGORIES:Community Event,Events,Nonprofit Fundraiser,Running Race
ATTACH;FMTTYPE=image/jpeg:https://www.hattiesburgms.com/wp-content/uploads/Tezza-1091.jpg
ORGANIZER;CN="Ddembe%20Ministries":MAILTO:ainsley@ddembe.org
END:VEVENT
END:VCALENDAR